Workbook

Sheet Introdução

Sheet TabAux
B3: Mês | C3: Salário | D3: Bônus | E3: Hora Extra | F3: Aluguel | G3: Pensão | H3: Outros | I3: Ganhos | W3: Mês | X3: Habitação | Y3: Alimentação | Z3: Saúde | AA3: Transporte | AB3: Educação | AC3: Lazer | AD3: Impostos | AE3: Aparelhos Pessoais | AF3: Acessórios | AG3: Cuidados Estéticos | AH3: Outros | AJ3: Ano
B4: Janeiro | C4: =Receita!$E$3 | D4: =Receita!$E4 | E4: =Receita!$E5 | F4: =Receita!$E6 | G4: =Receita!$E7 | H4: =Receita!$E8 | I4: =Geral!F$113 -> 0 | W4: Janeiro | X4: =Geral!$F$8+Geral!$F$53 -> 0 | Y4: =Geral!F$13+Geral!F$57 -> 0 | Z4: =Geral!F65+Geral!F23 -> 0 | AA4: =Geral!$F$18+Geral!$F$61 -> 0 | AB4: =Geral!$F$28+Geral!$F$69 -> 0 | AC4: =Geral!$F$33+Geral!$F$73 -> 0 | AD4: =Geral!$F$38 -> 0 | AE4: =Geral!$F$77 -> 0 | AF4: =Geral!$F$85 -> 0 | AG4: =Geral!$F$89 -> 0 | AH4: =Geral!$F$43+Geral!$F$93 -> 0 | AJ4: =SUM(X4:AI4) -> 0
B5: Fevereiro | C5: =Receita!$F$3 | D5: =Receita!$F$4 | E5: =Receita!$F$5 | F5: =Receita!$F$6 | G5: =Receita!$F$7 | H5: =Receita!$F$8 | I5: =Geral!G$113 -> 0 | W5: Fevereiro | X5: =Geral!$G$8+Geral!$G$53 -> 0 | Y5: =Geral!G$13+Geral!G$57 -> 0 | Z5: =Geral!$G$23+Geral!$G$65 -> 0 | AA5: =Geral!$G$18+Geral!$G$61 -> 0 | AB5: =Geral!$G$28+Geral!$G$69 -> 0 | AC5: =Geral!$G$33+Geral!$G$73 -> 0 | AD5: =Geral!$G$38 -> 0 | AE5: =Geral!$G$77 -> 0 | AF5: =Geral!$G$85 -> 0 | AG5: =Geral!$G$89 -> 0 | AH5: =Geral!$G$43+Geral!$G$93 -> 0 | AJ5: =SUM(X5:AI5) -> 0
B6: Março | C6: =Receita!$G$3 | D6: =Receita!$G$4 | E6: =Receita!$G$5 | F6: =Receita!$G$6 | G6: =Receita!$G$7 | H6: =Receita!$G$8 | I6: =Geral!H$113 -> 0 | W6: Março | X6: =Geral!$H$8+Geral!$H$53 -> 0 | Y6: =Geral!H$13+Geral!H$57 -> 0 | Z6: =Geral!$H$23+Geral!$H$65 -> 0 | AA6: =Geral!$H$18+Geral!$H$61 -> 0 | AB6: =Geral!$H$28+Geral!$H$69 -> 0 | AC6: =Geral!$H$33+Geral!$H$73 -> 0 | AD6: =Geral!$H$38 -> 0 | AE6: =Geral!$H$77 -> 0 | AF6: =Geral!$H$85 -> 0 | AG6: =Geral!$H$89 -> 0 | AH6: =Geral!$H$43+Geral!$H$93 -> 0 | AJ6: =SUM(X6:AI6) -> 0
B7: Abril | C7: =Receita!$H$3 | D7: =Receita!$H$4 | E7: =Receita!$H$5 | F7: =Receita!$H$6 | G7: =Receita!$H$7 | H7: =Receita!$H$8 | I7: =Geral!I$113 -> 0 | W7: Abril | X7: =Geral!$I$8+Geral!$I$53 -> 0 | Y7: =Geral!I$13+Geral!I$57 -> 0 | Z7: =Geral!$I$23+Geral!$I$65 -> 0 | AA7: =Geral!$I$18+Geral!$I$61 -> 0 | AB7: =Geral!$I$28+Geral!$I$69 -> 0 | AC7: =Geral!$I$33+Geral!$I$73 -> 0 | AD7: =Geral!$I$38 -> 0 | AE7: =Geral!$I$77 -> 0 | AF7: =Geral!$I$85 -> 0 | AG7: =Geral!$I$89 -> 0 | AH7: =Geral!$I$43+Geral!$I$93 -> 0 | AJ7: =SUM(X7:AI7) -> 0
B8: Maio | C8: =Receita!$I$3 | D8: =Receita!$I$4 | E8: =Receita!$I$5 | F8: =Receita!$I$6 | G8: =Receita!$I$7 | H8: =Receita!$I$8 | I8: =Geral!J$113 -> 0 | W8: Maio | X8: =Geral!$J$8+Geral!$J$53 -> 0 | Y8: =Geral!J$13+Geral!J$57 -> 0 | Z8: =Geral!$J$23+Geral!$J$65 -> 0 | AA8: =Geral!$J$18+Geral!$J$61 -> 0 | AB8: =Geral!$J$28+Geral!$J$69 -> 0 | AC8: =Geral!$J$33+Geral!$J$73 -> 0 | AD8: =Geral!$J$38 -> 0 | AE8: =Geral!$J$77 -> 0 | AF8: =Geral!$J$85 -> 0 | AG8: =Geral!$J$89 -> 0 | AH8: =Geral!$J$43+Geral!$J$93 -> 0 | AJ8: =SUM(X8:AI8) -> 0
B9: Junho | C9: =Receita!$J$3 | D9: =Receita!$J$4 | E9: =Receita!$J$5 | F9: =Receita!$J$6 | G9: =Receita!$J$7 | H9: =Receita!$J$8 | I9: =Geral!K$113 -> 0 | W9: Junho | X9: =Geral!$K$8+Geral!$K$53 -> 0 | Y9: =Geral!K$13+Geral!K$57 -> 0 | Z9: =Geral!$K$23+Geral!$K$65 -> 0 | AA9: =Geral!$K$18+Geral!$K$61 -> 0 | AB9: =Geral!$K$28+Geral!$K$69 -> 0 | AC9: =Geral!$K$33+Geral!$K$73 -> 0 | AD9: =Geral!$K$38 -> 0 | AE9: =Geral!$K$77 -> 0 | AF9: =Geral!$K$85 -> 0 | AG9: =Geral!$K$89 -> 0 | AH9: =Geral!$K$43+Geral!$K$93 -> 0 | AJ9: =SUM(X9:AI9) -> 0
B10: Julho | C10: =Receita!$K$3 | D10: =Receita!$K$4 | E10: =Receita!$K$5 | F10: =Receita!$K$6 | G10: =Receita!$K$7 | H10: =Receita!$K$8 | I10: =Geral!L$113 -> 0 | W10: Julho | X10: =Geral!$L$8+Geral!$L$53 -> 0 | Y10: =Geral!L$13+Geral!L$57 -> 0 | Z10: =Geral!$L$23+Geral!$L$65 -> 0 | AA10: =Geral!$L$18+Geral!$L$61 -> 0 | AB10: =Geral!$L$28+Geral!$L$69 -> 0 | AC10: =Geral!$L$33+Geral!$L$73 -> 0 | AD10: =Geral!$L$38 -> 0 | AE10: =Geral!$L$77 -> 0 | AF10: =Geral!$L$85 -> 0 | AG10: =Geral!$L$89 -> 0 | AH10: =Geral!$L$43+Geral!$L$93 -> 0 | AJ10: =SUM(X10:AI10) -> 0
B11: Agosto | C11: =Receita!$L$3 | D11: =Receita!$L$4 | E11: =Receita!$L$5 | F11: =Receita!$L$6 | G11: =Receita!$L$7 | H11: =Receita!$L$8 | I11: =Geral!M$113 -> 0 | W11: Agosto | X11: =Geral!$M$8+Geral!$M$53 -> 0 | Y11: =Geral!M$13+Geral!M$57 -> 0 | Z11: =Geral!$M$23+Geral!$M$65 -> 0 | AA11: =Geral!$M$18+Geral!$M$61 -> 0 | AB11: =Geral!$M$28+Geral!$M$69 -> 0 | AC11: =Geral!$M$33+Geral!$M$73 -> 0 | AD11: =Geral!$M$38 -> 0 | AE11: =Geral!$M$77 -> 0 | AF11: =Geral!$M$85 -> 0 | AG11: =Geral!$M$89 -> 0 | AH11: =Geral!$M$43+Geral!$M$93 -> 0 | AJ11: =SUM(X11:AI11) -> 0
B12: Setembro | C12: =Receita!$M$3 | D12: =Receita!$M$4 | E12: =Receita!$M$5 | F12: =Receita!$M$6 | G12: =Receita!$M$7 | H12: =Receita!$M$8 | I12: =Geral!N$113 -> 0 | W12: Setembro | X12: =Geral!$N$8+Geral!$N$53 -> 0 | Y12: =Geral!N$13+Geral!N$57 -> 0 | Z12: =Geral!$N$23+Geral!$N$65 -> 0 | AA12: =Geral!$N$18+Geral!$N$61 -> 0 | AB12: =Geral!$N$28+Geral!$N$69 -> 0 | AC12: =Geral!$N$33+Geral!$N$73 -> 0 | AD12: =Geral!$N$38 -> 0 | AE12: =Geral!$N$77 -> 0 | AF12: =Geral!$N$85 -> 0 | AG12: =Geral!$N$89 -> 0 | AH12: =Geral!$N$43+Geral!$N$93 -> 0 | AJ12: =SUM(X12:AI12) -> 0
B13: Outubro | C13: =Receita!$N$3 | D13: =Receita!$N$4 | E13: =Receita!$N$5 | F13: =Receita!$N$6 | G13: =Receita!$N$7 | H13: =Receita!$N$8 | I13: =Geral!O$113 -> 0 | W13: Outubro | X13: =Geral!$O$8+Geral!$O$53 -> 0 | Y13: =Geral!O$13+Geral!O$57 -> 0 | Z13: =Geral!$O$23+Geral!$O$65 -> 0 | AA13: =Geral!$O$18+Geral!$O$61 -> 0 | AB13: =Geral!$O$28+Geral!$O$69 -> 0 | AC13: =Geral!$O$33+Geral!$O$73 -> 0 | AD13: =Geral!$O$38 -> 0 | AE13: =Geral!$O$77 -> 0 | AF13: =Geral!$O$85 -> 0 | AG13: =Geral!$O$89 -> 0 | AH13: =Geral!$O$43+Geral!$O$93 -> 0 | AJ13: =SUM(X13:AI13) -> 0
B14: Novembro | C14: =Receita!$O$3 | D14: =Receita!$O$4 | E14: =Receita!$O$5 | F14: =Receita!$O$6 | G14: =Receita!$O$7 | H14: =Receita!$O$8 | I14: =Geral!P$113 -> 0 | W14: Novembro | X14: =Geral!$P$8+Geral!$P$53 -> 0 | Y14: =Geral!P$13+Geral!P$57 -> 0 | Z14: =Geral!$P$23+Geral!$P$65 -> 0 | AA14: =Geral!$P$18+Geral!$P$61 -> 0 | AB14: =Geral!$P$28+Geral!$P$69 -> 0 | AC14: =Geral!$P$33+Geral!$P$73 -> 0 | AD14: =Geral!$P$38 -> 0 | AE14: =Geral!$P$77 -> 0 | AF14: =Geral!$P$85 -> 0 | AG14: =Geral!$P$89 -> 0 | AH14: =Geral!$P$43+Geral!$P$93 -> 0 | AJ14: =SUM(X14:AI14) -> 0
B15: Dezembro | C15: =Receita!$P$3 | D15: =Receita!$P$4 | E15: =Receita!$P$5 | F15: =Receita!$P$6 | G15: =Receita!$P$7 | H15: =Receita!$P$8 | I15: =Geral!Q$113 -> 0 | L15: 1 | W15: Dezembro | X15: =Geral!$Q$8+Geral!$Q$53 -> 0 | Y15: =Geral!Q$13+Geral!Q$57 -> 0 | Z15: =Geral!$Q$23+Geral!$Q$65 -> 0 | AA15: =Geral!$Q$18+Geral!$Q$61 -> 0 | AB15: =Geral!$Q$28+Geral!$Q$69 -> 0 | AC15: =Geral!$Q$33+Geral!$Q$73 -> 0 | AD15: =Geral!$Q$38 -> 0 | AE15: =Geral!$Q$77 -> 0 | AF15: =Geral!$Q$85 -> 0 | AG15: =Geral!$Q$89 -> 0 | AH15: =Geral!$Q$43+Geral!$Q$93 -> 0 | AJ15: =SUM(X15:AI15) -> 0
B16: Ano | C16: =Receita!$E$3 | D16: =SUM(D4:D15) -> 0 | E16: =SUM(E4:E15) -> 0 | F16: =SUM(F4:F15) -> 0 | G16: =SUM(G4:G15) -> 0 | H16: =SUM(H4:H15) -> 0 | I16: =SUM(I4:I15) -> 0 | W16: Ano | X16: =SUM(X4:X15) -> 0 | Y16: =SUM(Y4:Y15) -> 0 | Z16: =SUM(Z4:Z15) -> 0 | AA16: =SUM(AA4:AA15) -> 0 | AB16: =SUM(AB4:AB15) -> 0 | AC16: =SUM(AC4:AC15) -> 0 | AD16: =SUM(AD4:AD15) -> 0 | AE16: =SUM(AE4:AE15) -> 0 | ... AH16: =SUM(AH4:AH15) -> 0 | AJ16: =SUM(X16:AI16) -> 0
C17: 2 | D17: 3 | E17: 4 | F17: 5 | G17: 6 | H17: 7 | I17: 8 | X17: 2 | Y17: 3 | Z17: 4 | AA17: 5 | AB17: 6 | AC17: 7 | AD17: 8 | AE17: 9 | AF17: 10 | AG17: 11 | AH17: 12
B18: {=INDEX(B4:B16,L15)} -> Janeiro | C18: Salário | D18: Bônus | E18: Hora Extra | F18: Aluguel | G18: Pensão | H18: Outros | I18: Ganhos | W18: {=INDEX(W4:W15,X22)} -> Janeiro | X18: Habitação | Y18: Alimentação | Z18: Saúde | AA18: Transporte | AB18: Educação | AC18: Lazer | AD18: Impostos | AE18: Aparelhos Pessoais | AF18: Acessórios | AG18: Cuidados Estéticos | AH18: Outros
C19: =VLOOKUP($B$18,$B$3:$I$16,C$17,0) | D19: =VLOOKUP($B$18,$B$3:$I$16,D$17,0) | E19: =VLOOKUP($B$18,$B$3:$I$16,E$17,0) | F19: =VLOOKUP($B$18,$B$3:$I$16,F$17,0) | G19: =VLOOKUP($B$18,$B$3:$I$16,G$17,0) | H19: =VLOOKUP($B$18,$B$3:$I$16,H$17,0) | I19: =VLOOKUP($B$18,$B$3:$I$16,I$17,0) -> 0 | J19: =VLOOKUP($B$7,$A$11:$N$20,J$6,0) -> #VALUE! | K19: =VLOOKUP($B$7,$A$11:$N$20,K$6,0) -> #VALUE! | L19: =VLOOKUP($B$7,$A$11:$N$20,L$6,0) -> #VALUE! | M19: =VLOOKUP($B$7,$A$11:$N$20,M$6,0) -> #VALUE! | N19: =VLOOKUP($B$7,$A$11:$N$20,N$6,0) -> #VALUE! | X19: =VLOOKUP($W$18,$W$4:$AH$15,X17,0) -> 0 | Y19: =VLOOKUP($W$18,$W$4:$AH$15,Y17,0) -> 0 | Z19: =VLOOKUP($W$18,$W$4:$AH$15,Z17,0) -> 0 | AA19: =VLOOKUP($W$18,$W$4:$AH$15,AA17,0) -> 0 | AB19: =VLOOKUP($W$18,$W$4:$AH$15,AB17,0) -> 0 | AC19: =VLOOKUP($W$18,$W$4:$AH$15,AC17,0) -> 0 | AD19: =VLOOKUP($W$18,$W$4:$AH$15,AD17,0) -> 0 | AE19: =VLOOKUP($W$18,$W$4:$AH$15,AE17,0) -> 0 | ... AH19: =VLOOKUP($W$18,$W$4:$AH$15,AH17,0) -> 0
X22: 1
V30: Tipos de despesa | W30: Janeiro | X30: Fevereiro | Y30: Março | Z30: Abril | AA30: Maio | AB30: Junho | AC30: Julho | AD30: Agosto | AE30: Setembro | AF30: Outubro | AG30: Novembro | AH30: Dezembro | AI30: Ano
V31: Habitação | W31: =Geral!$F$8+Geral!$F$53 -> 0 | X31: =Geral!$G$8+Geral!$G$53 -> 0 | Y31: =Geral!$H$8+Geral!$H$53 -> 0 | Z31: =Geral!$I$8+Geral!$I$53 -> 0 | AA31: =Geral!$J$8+Geral!$J$53 -> 0 | AB31: =Geral!$K$8+Geral!$K$53 -> 0 | AC31: =Geral!$L$8+Geral!$L$53 -> 0 | AD31: =Geral!$M$8+Geral!$M$53 -> 0 | AE31: =Geral!$N$8+Geral!$N$53 -> 0 | AF31: =Geral!$O$8+Geral!$O$53 -> 0 | AG31: =Geral!$P$8+Geral!$P$53 -> 0 | AH31: =Geral!$Q$8+Geral!$Q$53 -> 0 | AI31: =SUM(W31:AH31) -> 0
V32: Saúde | W32: =Geral!$F$9+Geral!$F$54 -> #DIV/0! | X32: =Geral!$G$23+Geral!$G$65 -> 0 | Y32: =Geral!$H$23+Geral!$H$65 -> 0 | Z32: =Geral!$I$23+Geral!$I$65 -> 0 | AA32: =Geral!$J$23+Geral!$J$65 -> 0 | AB32: =Geral!$K$23+Geral!$K$65 -> 0 | AC32: =Geral!$L$23+Geral!$L$65 -> 0 | AD32: =Geral!$M$23+Geral!$M$65 -> 0 | AE32: =Geral!$N$23+Geral!$N$65 -> 0 | AF32: =Geral!$O$23+Geral!$O$65 -> 0 | AG32: =Geral!$P$23+Geral!$P$65 -> 0 | AH32: =Geral!$Q$23+Geral!$Q$65 -> 0 | AI32: =SUM(W32:AH32) -> #DIV/0!
V33: Transporte | W33: =Geral!$F$12+Geral!$F$57 -> 0 | X33: =Geral!$G$18+Geral!$G$61 -> 0 | Y33: =Geral!$H$18+Geral!$H$61 -> 0 | Z33: =Geral!$I$18+Geral!$I$61 -> 0 | AA33: =Geral!$J$18+Geral!$J$61 -> 0 | AB33: =Geral!$K$18+Geral!$K$61 -> 0 | AC33: =Geral!$L$18+Geral!$L$61 -> 0 | AD33: =Geral!$M$18+Geral!$M$61 -> 0 | AE33: =Geral!$N$18+Geral!$N$61 -> 0 | AF33: =Geral!$O$18+Geral!$O$61 -> 0 | AG33: =Geral!$P$18+Geral!$P$61 -> 0 | AH33: =Geral!$Q$18+Geral!$Q$61 -> 0 | AI33: =SUM(W33:AH33) -> 0
B34: Origem/Mês | C34: Janeiro | D34: Fevereiro | E34: Março | F34: Abril | G34: Maio | H34: Junho | I34: Julho | J34: Agosto | K34: Setembro | L34: Outubro | M34: Novembro | N34: Dezembro | O34: Ano | V34: Educação | W34: =Geral!$F$28+Geral!$F$69 -> 0 | X34: =Geral!$G$28+Geral!$G$69 -> 0 | Y34: =Geral!$H$28+Geral!$H$69 -> 0 | Z34: =Geral!$I$28+Geral!$I$69 -> 0 | AA34: =Geral!$J$28+Geral!$J$69 -> 0 | AB34: =Geral!$K$28+Geral!$K$69 -> 0 | AC34: =Geral!$L$28+Geral!$L$69 -> 0 | AD34: =Geral!$M$28+Geral!$M$69 -> 0 | AE34: =Geral!$N$28+Geral!$N$69 -> 0 | AF34: =Geral!$O$28+Geral!$O$69 -> 0 | AG34: =Geral!$P$28+Geral!$P$69 -> 0 | AH34: =Geral!$Q$28+Geral!$Q$69 -> 0 | AI34: =SUM(W34:AH34) -> 0
B35: Salário | C35: 200 | D35: 200 | E35: 200 | F35: 200 | G35: 200 | H35: 200 | I35: 200 | J35: 200 | K35: 200 | L35: 200 | M35: 200 | N35: 200 | O35: =SUM(C35:N35) -> 2400 | V35: Lazer | W35: =Geral!$F$33+Geral!$F$73 -> 0 | X35: =Geral!$G$33+Geral!$G$73 -> 0 | Y35: =Geral!$H$33+Geral!$H$73 -> 0 | Z35: =Geral!$I$33+Geral!$I$73 -> 0 | AA35: =Geral!$J$33+Geral!$J$73 -> 0 | AB35: =Geral!$K$33+Geral!$K$73 -> 0 | AC35: =Geral!$L$33+Geral!$L$73 -> 0 | AD35: =Geral!$M$33+Geral!$M$73 -> 0 | AE35: =Geral!$N$33+Geral!$N$73 -> 0 | AF35: =Geral!$O$33+Geral!$O$73 -> 0 | AG35: =Geral!$P$33+Geral!$P$73 -> 0 | AH35: =Geral!$Q$33+Geral!$Q$73 -> 0 | AI35: =SUM(W35:AH35) -> 0
B36: Bônus | O36: =SUM(C36:N36) -> 0 | V36: Impostos | W36: =Geral!$F$38 -> 0 | X36: =Geral!$G$38 -> 0 | Y36: =Geral!$H$38 -> 0 | Z36: =Geral!$I$38 -> 0 | AA36: =Geral!$J$38 -> 0 | AB36: =Geral!$K$38 -> 0 | AC36: =Geral!$L$38 -> 0 | AD36: =Geral!$M$38 -> 0 | AE36: =Geral!$N$38 -> 0 | AF36: =Geral!$O$38 -> 0 | AG36: =Geral!$P$38 -> 0 | AH36: =Geral!$Q$38 -> 0 | AI36: =SUM(W36:AH36) -> 0
B37: Hora Extra | D37: 10 | O37: =SUM(C37:N37) -> 10 | V37: Aparelhos Pessoais | W37: =Geral!$F$77 -> 0 | X37: =Geral!$G$77 -> 0 | Y37: =Geral!$H$77 -> 0 | Z37: =Geral!$I$77 -> 0 | AA37: =Geral!$J$77 -> 0 | AB37: =Geral!$K$77 -> 0 | AC37: =Geral!$L$77 -> 0 | AD37: =Geral!$M$77 -> 0 | AE37: =Geral!$N$77 -> 0 | AF37: =Geral!$O$77 -> 0 | AG37: =Geral!$P$77 -> 0 | AH37: =Geral!$Q$77 -> 0 | AI37: =SUM(W37:AH37) -> 0
B38: Aluguel | K38: 300 | M38: 300 | N38: 300 | O38: =SUM(C38:N38) -> 900 | V38: Acessórios | W38: =Geral!$F$85 -> 0 | X38: =Geral!$G$85 -> 0 | Y38: =Geral!$H$85 -> 0 | Z38: =Geral!$I$85 -> 0 | AA38: =Geral!$J$85 -> 0 | AB38: =Geral!$K$85 -> 0 | AC38: =Geral!$L$85 -> 0 | AD38: =Geral!$M$85 -> 0 | AE38: =Geral!$N$85 -> 0 | AF38: =Geral!$O$85 -> 0 | AG38: =Geral!$P$85 -> 0 | AH38: =Geral!$Q$85 -> 0 | AI38: =SUM(W38:AH38) -> 0
B39: Pensão | C39: 40 | I39: 20 | O39: =SUM(C39:N39) -> 60 | V39: Cuidados Estéticos | W39: =Geral!$F$89 -> 0 | X39: =Geral!$G$89 -> 0 | Y39: =Geral!$H$89 -> 0 | Z39: =Geral!$I$89 -> 0 | AA39: =Geral!$J$89 -> 0 | AB39: =Geral!$K$89 -> 0 | AC39: =Geral!$L$89 -> 0 | AD39: =Geral!$M$89 -> 0 | AE39: =Geral!$N$89 -> 0 | AF39: =Geral!$O$89 -> 0 | AG39: =Geral!$P$89 -> 0 | AH39: =Geral!$Q$89 -> 0 | AI39: =SUM(W39:AH39) -> 0
B40: Outros | N40: 150 | O40: =SUM(C40:N40) -> 150 | V40: Outros | W40: =Geral!$F$43+Geral!$F$93 -> 0 | X40: =Geral!$G$43+Geral!$G$93 -> 0 | Y40: =Geral!$H$43+Geral!$H$93 -> 0 | Z40: =Geral!$I$43+Geral!$I$93 -> 0 | AA40: =Geral!$J$43+Geral!$J$93 -> 0 | AB40: =Geral!$K$43+Geral!$K$93 -> 0 | AC40: =Geral!$L$43+Geral!$L$93 -> 0 | AD40: =Geral!$M$43+Geral!$M$93 -> 0 | AE40: =Geral!$N$43+Geral!$N$93 -> 0 | AF40: =Geral!$O$43+Geral!$O$93 -> 0 | AG40: =Geral!$P$43+Geral!$P$93 -> 0 | AH40: =Geral!$Q$43+Geral!$Q$93 -> 0 | AI40: =SUM(W40:AH40) -> 0
V41: Alimentação | W41: =Geral!F$13+Geral!F$57 -> 0 | X41: =Geral!G$13+Geral!G$57 -> 0 | Y41: =Geral!H$13+Geral!H$57 -> 0 | Z41: =Geral!I$13+Geral!I$57 -> 0 | AA41: =Geral!J$13+Geral!J$57 -> 0 | AB41: =Geral!K$13+Geral!K$57 -> 0 | AC41: =Geral!L$13+Geral!L$57 -> 0 | AD41: =Geral!M$13+Geral!M$57 -> 0 | ... AH41: =Geral!Q$13+Geral!Q$57 -> 0 | AI41: =SUM(W41:AH41) -> 0
E55: 1 | F55: 1

Sheet Gráficos Receita
L11: 11
N20: *Selecione o mês que deseja analisar com o botão acima.
N21: *Se adicionar uma origem para Receita, esse gráfico não irá incluir.

Sheet Gráficos Despesa
K20: *Selecione o mês que deseja analisar no botão acima.
K21: *O gráfico computará as despesas incluídas dentro de cada categoria.

Sheet Gráficos Investimentos

Sheet Gráficos Resultado

Sheet Geral
E2: Origem/Mês | F2: Janeiro | G2: Fevereiro | H2: Março | I2: Abril | J2: Maio | K2: Junho | L2: Julho | M2: Agosto | N2: Setembro | O2: Outubro | P2: Novembro | Q2: Dezembro | R2: Ano
B3: Receita | E3: Receita Recebida sem Ganhos de Investimento | F3: =Receita!E9 -> 0 | G3: =Receita!F9 -> 0 | H3: =Receita!G9 -> 0 | I3: =Receita!H9 -> 0 | J3: =Receita!I9 -> 0 | K3: =Receita!J9 -> 0 | L3: =Receita!K9 -> 0 | M3: =Receita!L9 -> 0 | ... Q3: =Receita!P9 -> 0 | R3: =SUM(F3:Q3) -> 0
E4: Receita Recebida com Ganhos de Investimento | F4: =F3+F113 -> 0 | G4: =G3+G113 -> 0 | H4: =H3+H113 -> 0 | I4: =I3+I113 -> 0 | J4: =J3+J113 -> 0 | K4: =K3+K113 -> 0 | L4: =L3+L113 -> 0 | M4: =M3+M113 -> 0 | ... R4: =R3+R113 -> 0
E5: Meta da Receita | R5: =SUM(F5:Q5) -> 0
E6: % de Recebido sobre Meta | F6: =F3/F5 -> #DIV/0! | G6: =G3/G5 -> #DIV/0! | H6: =H3/H5 -> #DIV/0! | I6: =I3/I5 -> #DIV/0! | J6: =J3/J5 -> #DIV/0! | K6: =K3/K5 -> #DIV/0! | L6: =L3/L5 -> #DIV/0! | M6: =M3/M5 -> #DIV/0! | ... R6: =R3/R5 -> #DIV/0!
B8: Despesa | C8: Despesa Fixa (Ir para aba "Despesa Fixa") | D8: Habitação | E8: Total Habitação | F8: ='Despesa Fixa'!E14 -> 0 | G8: ='Despesa Fixa'!F14 -> 0 | H8: ='Despesa Fixa'!G14 -> 0 | I8: ='Despesa Fixa'!H14 -> 0 | J8: ='Despesa Fixa'!I14 -> 0 | K8: ='Despesa Fixa'!J14 -> 0 | L8: ='Despesa Fixa'!K14 -> 0 | M8: ='Despesa Fixa'!L14 -> 0 | ... Q8: ='Despesa Fixa'!P14 -> 0 | R8: =SUM(F8:Q8) -> 0
E9: % da Receita Recebida com Ganhos | F9: =F8/F$4 -> #DIV/0! | G9: =G8/G$4 -> #DIV/0! | H9: =H8/H$4 -> #DIV/0! | I9: =I8/I$4 -> #DIV/0! | J9: =J8/J$4 -> #DIV/0! | K9: =K8/K$4 -> #DIV/0! | L9: =L8/L$4 -> #DIV/0! | M9: =M8/M$4 -> #DIV/0! | ... R9: =R8/R$4 -> #DIV/0!
E10: Meta | R10: =SUM(F10:Q10) -> 0
E11: % da Meta | F11: =F8/F10 -> #DIV/0! | G11: =G8/G10 -> #DIV/0! | H11: =H8/H10 -> #DIV/0! | I11: =I8/I10 -> #DIV/0! | J11: =J8/J10 -> #DIV/0! | K11: =K8/K10 -> #DIV/0! | L11: =L8/L10 -> #DIV/0! | M11: =M8/M10 -> #DIV/0! | ... R11: =R8/R10 -> #DIV/0!
D13: Alimentação | E13: Total Alimentação | F13: ='Despesa Fixa'!E24 -> 0 | G13: ='Despesa Fixa'!F24 -> 0 | H13: ='Despesa Fixa'!G24 -> 0 | I13: ='Despesa Fixa'!H24 -> 0 | J13: ='Despesa Fixa'!I24 -> 0 | K13: ='Despesa Fixa'!J24 -> 0 | L13: ='Despesa Fixa'!K24 -> 0 | M13: ='Despesa Fixa'!L24 -> 0 | ... Q13: ='Despesa Fixa'!P24 -> 0 | R13: =SUM(F13:Q13) -> 0
E14: % da Receita Recebida com Ganhos | F14: =F13/F$4 -> #DIV/0! | G14: =G13/G$4 -> #DIV/0! | H14: =H13/H$4 -> #DIV/0! | I14: =I13/I$4 -> #DIV/0! | J14: =J13/J$4 -> #DIV/0! | K14: =K13/K$4 -> #DIV/0! | L14: =L13/L$4 -> #DIV/0! | M14: =M13/M$4 -> #DIV/0! | ... R14: =R13/R$4 -> #DIV/0!
E15: Meta | R15: =SUM(F15:Q15) -> 0
E16: % da Meta | F16: =F13/F15 -> #DIV/0! | G16: =G13/G15 -> #DIV/0! | H16: =H13/H15 -> #DIV/0! | I16: =I13/I15 -> #DIV/0! | J16: =J13/J15 -> #DIV/0! | K16: =K13/K15 -> #DIV/0! | L16: =L13/L15 -> #DIV/0! | M16: =M13/M15 -> #DIV/0! | ... R16: =R13/R15 -> #DIV/0!
D18: Transporte | E18: Total Transporte | F18: ='Despesa Fixa'!E30 -> 0 | G18: ='Despesa Fixa'!F30 -> 0 | H18: ='Despesa Fixa'!G30 -> 0 | I18: ='Despesa Fixa'!H30 -> 0 | J18: ='Despesa Fixa'!I30 -> 0 | K18: ='Despesa Fixa'!J30 -> 0 | L18: ='Despesa Fixa'!K30 -> 0 | M18: ='Despesa Fixa'!L30 -> 0 | ... Q18: ='Despesa Fixa'!P30 -> 0 | R18: =SUM(F18:Q18) -> 0
E19: % da Receita Recebida com Ganhos | F19: =F18/F$4 -> #DIV/0! | G19: =G18/G$4 -> #DIV/0! | H19: =H18/H$4 -> #DIV/0! | I19: =I18/I$4 -> #DIV/0! | J19: =J18/J$4 -> #DIV/0! | K19: =K18/K$4 -> #DIV/0! | L19: =L18/L$4 -> #DIV/0! | M19: =M18/M$4 -> #DIV/0! | ... R19: =R18/R$4 -> #DIV/0!
E20: Meta | R20: =SUM(F20:Q20) -> 0
E21: % da Meta | F21: =F18/F20 -> #DIV/0! | G21: =G18/G20 -> #DIV/0! | H21: =H18/H20 -> #DIV/0! | I21: =I18/I20 -> #DIV/0! | J21: =J18/J20 -> #DIV/0! | K21: =K18/K20 -> #DIV/0! | L21: =L18/L20 -> #DIV/0! | M21: =M18/M20 -> #DIV/0! | ... R21: =R18/R20 -> #DIV/0!
D23: Saúde | E23: Total Saúde | F23: ='Despesa Fixa'!E37 -> 0 | G23: ='Despesa Fixa'!F37 -> 0 | H23: ='Despesa Fixa'!G37 -> 0 | I23: ='Despesa Fixa'!H37 -> 0 | J23: ='Despesa Fixa'!I37 -> 0 | K23: ='Despesa Fixa'!J37 -> 0 | L23: ='Despesa Fixa'!K37 -> 0 | M23: ='Despesa Fixa'!L37 -> 0 | ... Q23: ='Despesa Fixa'!P37 -> 0 | R23: =SUM(F23:Q23) -> 0
E24: % da Receita Recebida com Ganhos | F24: =F23/F$4 -> #DIV/0! | G24: =G23/G$4 -> #DIV/0! | H24: =H23/H$4 -> #DIV/0! | I24: =I23/I$4 -> #DIV/0! | J24: =J23/J$4 -> #DIV/0! | K24: =K23/K$4 -> #DIV/0! | L24: =L23/L$4 -> #DIV/0! | M24: =M23/M$4 -> #DIV/0! | ... R24: =R23/R$4 -> #DIV/0!
E25: Meta | R25: =SUM(F25:Q25) -> 0
E26: % da Meta | F26: =F23/F25 -> #DIV/0! | G26: =G23/G25 -> #DIV/0! | H26: =H23/H25 -> #DIV/0! | I26: =I23/I25 -> #DIV/0! | J26: =J23/J25 -> #DIV/0! | K26: =K23/K25 -> #DIV/0! | L26: =L23/L25 -> #DIV/0! | M26: =M23/M25 -> #DIV/0! | ... R26: =R23/R25 -> #DIV/0!
D28: Educação | E28: Total Educação | F28: ='Despesa Fixa'!E44 -> 0 | G28: ='Despesa Fixa'!F44 -> 0 | H28: ='Despesa Fixa'!G44 -> 0 | I28: ='Despesa Fixa'!H44 -> 0 | J28: ='Despesa Fixa'!I44 -> 0 | K28: ='Despesa Fixa'!J44 -> 0 | L28: ='Despesa Fixa'!K44 -> 0 | M28: ='Despesa Fixa'!L44 -> 0 | ... Q28: ='Despesa Fixa'!P44 -> 0 | R28: =SUM(F28:Q28) -> 0
E29: % da Receita Recebida com Ganhos | F29: =F28/F$4 -> #DIV/0! | G29: =G28/G$4 -> #DIV/0! | H29: =H28/H$4 -> #DIV/0! | I29: =I28/I$4 -> #DIV/0! | J29: =J28/J$4 -> #DIV/0! | K29: =K28/K$4 -> #DIV/0! | L29: =L28/L$4 -> #DIV/0! | M29: =M28/M$4 -> #DIV/0! | ... R29: =R28/R$4 -> #DIV/0!
E30: Meta | R30: =SUM(F30:Q30) -> 0
E31: % da Meta | F31: =F28/F30 -> #DIV/0! | G31: =G28/G30 -> #DIV/0! | H31: =H28/H30 -> #DIV/0! | I31: =I28/I30 -> #DIV/0! | J31: =J28/J30 -> #DIV/0! | K31: =K28/K30 -> #DIV/0! | L31: =L28/L30 -> #DIV/0! | M31: =M28/M30 -> #DIV/0! | ... R31: =R28/R30 -> #DIV/0!
D33: Lazer | E33: Total Lazer | F33: ='Despesa Fixa'!E51 -> 0 | G33: ='Despesa Fixa'!F51 -> 0 | H33: ='Despesa Fixa'!G51 -> 0 | I33: ='Despesa Fixa'!H51 -> 0 | J33: ='Despesa Fixa'!I51 -> 0 | K33: ='Despesa Fixa'!J51 -> 0 | L33: ='Despesa Fixa'!K51 -> 0 | M33: ='Despesa Fixa'!L51 -> 0 | ... Q33: ='Despesa Fixa'!P51 -> 0 | R33: =SUM(F33:Q33) -> 0
E34: % da Receita Recebida com Ganhos | F34: =F33/F$4 -> #DIV/0! | G34: =G33/G$4 -> #DIV/0! | H34: =H33/H$4 -> #DIV/0! | I34: =I33/I$4 -> #DIV/0! | J34: =J33/J$4 -> #DIV/0! | K34: =K33/K$4 -> #DIV/0! | L34: =L33/L$4 -> #DIV/0! | M34: =M33/M$4 -> #DIV/0! | ... R34: =R33/R$4 -> #DIV/0!
E35: Meta | R35: =SUM(F35:Q35) -> 0
E36: % da Meta | F36: =F33/F35 -> #DIV/0! | G36: =G33/G35 -> #DIV/0! | H36: =H33/H35 -> #DIV/0! | I36: =I33/I35 -> #DIV/0! | J36: =J33/J35 -> #DIV/0! | K36: =K33/K35 -> #DIV/0! | L36: =L33/L35 -> #DIV/0! | M36: =M33/M35 -> #DIV/0! | ... R36: =R33/R35 -> #DIV/0!
D38: Impostos | E38: Total Impostos | F38: ='Despesa Fixa'!E57 -> 0 | G38: ='Despesa Fixa'!F57 -> 0 | H38: ='Despesa Fixa'!G57 -> 0 | I38: ='Despesa Fixa'!H57 -> 0 | J38: ='Despesa Fixa'!I57 -> 0 | K38: ='Despesa Fixa'!J57 -> 0 | L38: ='Despesa Fixa'!K57 -> 0 | M38: ='Despesa Fixa'!L57 -> 0 | ... Q38: ='Despesa Fixa'!P57 -> 0 | R38: =SUM(F38:Q38) -> 0
E39: % da Receita Recebida com Ganhos | F39: =F38/F$4 -> #DIV/0! | G39: =G38/G$4 -> #DIV/0! | H39: =H38/H$4 -> #DIV/0! | I39: =I38/I$4 -> #DIV/0! | J39: =J38/J$4 -> #DIV/0! | K39: =K38/K$4 -> #DIV/0! | L39: =L38/L$4 -> #DIV/0! | M39: =M38/M$4 -> #DIV/0! | ... R39: =R38/R$4 -> #DIV/0!
E40: Meta | R40: =SUM(F40:Q40) -> 0
E41: % da Meta | F41: =F38/F40 -> #DIV/0! | G41: =G38/G40 -> #DIV/0! | H41: =H38/H40 -> #DIV/0! | I41: =I38/I40 -> #DIV/0! | J41: =J38/J40 -> #DIV/0! | K41: =K38/K40 -> #DIV/0! | L41: =L38/L40 -> #DIV/0! | M41: =M38/M40 -> #DIV/0! | ... R41: =R38/R40 -> #DIV/0!
D43: Outros | E43: Total Outros | F43: ='Despesa Fixa'!E62 -> 0 | G43: ='Despesa Fixa'!F62 -> 0 | H43: ='Despesa Fixa'!G62 -> 0 | I43: ='Despesa Fixa'!H62 -> 0 | J43: ='Despesa Fixa'!I62 -> 0 | K43: ='Despesa Fixa'!J62 -> 0 | L43: ='Despesa Fixa'!K62 -> 0 | M43: ='Despesa Fixa'!L62 -> 0 | ... Q43: ='Despesa Fixa'!P62 -> 0 | R43: =SUM(F43:Q43) -> 0
E44: % da Receita Recebida com Ganhos | F44: =F43/F$4 -> #DIV/0! | G44: =G43/G$4 -> #DIV/0! | H44: =H43/H$4 -> #DIV/0! | I44: =I43/I$4 -> #DIV/0! | J44: =J43/J$4 -> #DIV/0! | K44: =K43/K$4 -> #DIV/0! | L44: =L43/L$4 -> #DIV/0! | M44: =M43/M$4 -> #DIV/0! | ... R44: =R43/R$4 -> #DIV/0!
E45: Meta | R45: =SUM(F45:Q45) -> 0
E46: % da Meta | F46: =F43/F45 -> #DIV/0! | G46: =G43/G45 -> #DIV/0! | H46: =H43/H45 -> #DIV/0! | I46: =I43/I45 -> #DIV/0! | J46: =J43/J45 -> #DIV/0! | K46: =K43/K45 -> #DIV/0! | L46: =L43/L45 -> #DIV/0! | M46: =M43/M45 -> #DIV/0! | ... R46: =R43/R45 -> #DIV/0!
E48: Total Fixa | F48: =SUM(F43,F38,F33,F28,F23,F18,F8) -> 0 | G48: =SUM(G43,G38,G33,G28,G23,G18,G8) -> 0 | H48: =SUM(H43,H38,H33,H28,H23,H18,H8) -> 0 | I48: =SUM(I43,I38,I33,I28,I23,I18,I8) -> 0 | J48: =SUM(J43,J38,J33,J28,J23,J18,J8) -> 0 | K48: =SUM(K43,K38,K33,K28,K23,K18,K8) -> 0 | L48: =SUM(L43,L38,L33,L28,L23,L18,L8) -> 0 | M48: =SUM(M43,M38,M33,M28,M23,M18,M8) -> 0 | ... R48: =SUM(R43,R38,R33,R28,R23,R18,R8) -> 0
E49: % da Receita Recebida com Ganhos | F49: =F48/F3 -> #DIV/0! | G49: =G48/G3 -> #DIV/0! | H49: =H48/H3 -> #DIV/0! | I49: =I48/I3 -> #DIV/0! | J49: =J48/J3 -> #DIV/0! | K49: =K48/K3 -> #DIV/0! | L49: =L48/L3 -> #DIV/0! | M49: =M48/M3 -> #DIV/0! | ... R49: =R48/R3 -> #DIV/0!
E50: Meta | R50: =SUM(F50:Q50) -> 0
...

Sheet Receita
D2: Origem/Mês | E2: Janeiro | F2: Fevereiro | G2: Março | H2: Abril | I2: Maio | J2: Junho | K2: Julho | L2: Agosto | M2: Setembro | N2: Outubro | O2: Novembro | P2: Dezembro | Q2: Ano
B3: Receita (pretensão de ganhos no ano) | D3: Salário | Q3: =SUM(E3:P3) -> 0
D4: Bônus | Q4: =SUM(E4:P4) -> 0
D5: Hora Extra | Q5: =SUM(E5:P5) -> 0
D6: Aluguel | Q6: =SUM(E6:P6) -> 0
D7: Pensão | Q7: =SUM(E7:P7) -> 0
D8: Outros | Q8: =SUM(E8:P8) -> 0
D9: Receita Recebida sem Ganhos de Investimento | E9: =SUM(E3:E8) -> 0 | F9: =SUM(F3:F8) -> 0 | G9: =SUM(G3:G8) -> 0 | H9: =SUM(H3:H8) -> 0 | I9: =SUM(I3:I8) -> 0 | J9: =SUM(J3:J8) -> 0 | K9: =SUM(K3:K8) -> 0 | L9: =SUM(L3:L8) -> 0 | ... P9: =SUM(P3:P8) -> 0 | Q9: =SUM(E9:P9) -> 0

Sheet Despesa Fixa
D1: Origem/Mês | E1: Janeiro | F1: Fevereiro | G1: Março | H1: Abril | I1: Maio | J1: Junho | K1: Julho | L1: Agosto | M1: Setembro | N1: Outubro | O1: Novembro | P1: Dezembro | Q1: Ano
B2: Fixa (despesa mensal e que varia pouco) | C2: Habitação | D2: Água | Q2: =SUM(E2:P2) -> 0
D3: Luz | Q3: =SUM(E3:P3) -> 0
D4: Gás | Q4: =SUM(E4:P4) -> 0
D5: Internet | Q5: =SUM(E5:P5) -> 0
D6: Condomínio | Q6: =SUM(E6:P6) -> 0
D7: Aluguel | Q7: =SUM(E7:P7) -> 0
D8: Empregado Doméstico | Q8: =SUM(E8:P8) -> 0
D9: Prestação da casa | Q9: =SUM(E9:P9) -> 0
D10: Seguro da casa | Q10: =SUM(E10:P10) -> 0
D11: Telefone | Q11: =SUM(E11:P11) -> 0
D12: Assinatura TV | Q12: =SUM(E12:P12) -> 0
D13: Outros | Q13: =SUM(E13:P13) -> 0
D14: Total Habitação | E14: =SUM(E2:E13) -> 0 | F14: =SUM(F2:F13) -> 0 | G14: =SUM(G2:G13) -> 0 | H14: =SUM(H2:H13) -> 0 | I14: =SUM(I2:I13) -> 0 | J14: =SUM(J2:J13) -> 0 | K14: =SUM(K2:K13) -> 0 | L14: =SUM(L2:L13) -> 0 | ... P14: =SUM(P2:P13) -> 0 | Q14: =SUM(E14:P14) -> 0
C16: Alimentação | D16: Café da manhã Fora | Q16: =SUM(E16:P16) -> 0
D17: Almoço Fora | Q17: =SUM(E17:P17) -> 0
D18: Lanches Fora | Q18: =SUM(E18:P18) -> 0
D19: Janta Fora | Q19: =SUM(E19:P19) -> 0
D20: Supermercado | Q20: =SUM(E20:P20) -> 0
D21: Feira | Q21: =SUM(E21:P21) -> 0
D22: Padaria | Q22: =SUM(E22:P22) -> 0
D23: Outros | Q23: =SUM(E23:P23) -> 0
D24: Total Alimentação | E24: =SUM(E16:E23) -> 0 | F24: =SUM(F16:F23) -> 0 | G24: =SUM(G16:G23) -> 0 | H24: =SUM(H16:H23) -> 0 | I24: =SUM(I16:I23) -> 0 | J24: =SUM(J16:J23) -> 0 | K24: =SUM(K16:K23) -> 0 | L24: =SUM(L16:L23) -> 0 | ... P24: =SUM(P16:P23) -> 0 | Q24: =SUM(E24:P24) -> 0
C26: Transporte | D26: Prestação do carro | Q26: =SUM(E26:P26) -> 0
D27: Seguro do carro | Q27: =SUM(E27:P27) -> 0
D28: Estacionamento | Q28: =SUM(E28:P28) -> 0
D29: Outros | Q29: =SUM(E29:P29) -> 0
D30: Total Transporte | E30: =SUM(E26:E29) -> 0 | F30: =SUM(F26:F29) -> 0 | G30: =SUM(G26:G29) -> 0 | H30: =SUM(H26:H29) -> 0 | I30: =SUM(I26:I29) -> 0 | J30: =SUM(J26:J29) -> 0 | K30: =SUM(K26:K29) -> 0 | L30: =SUM(L26:L29) -> 0 | ... P30: =SUM(P26:P29) -> 0 | Q30: =SUM(E30:P30) -> 0
C32: Saúde | D32: Seguro saúde | Q32: =SUM(E32:P32) -> 0
D33: Medicamentos | Q33: =SUM(E33:P33) -> 0
D34: Plano de saúde | Q34: =SUM(E34:P34) -> 0
D35: Academia | Q35: =SUM(E35:P35) -> 0
D36: Outros | Q36: =SUM(E36:P36) -> 0
D37: Total Saúde | E37: =SUM(E32:E36) -> 0 | F37: =SUM(F32:F36) -> 0 | G37: =SUM(G32:G36) -> 0 | H37: =SUM(H32:H36) -> 0 | I37: =SUM(I32:I36) -> 0 | J37: =SUM(J32:J36) -> 0 | K37: =SUM(K32:K36) -> 0 | L37: =SUM(L32:L36) -> 0 | ... P37: =SUM(P32:P36) -> 0 | Q37: =SUM(E37:P37) -> 0
C39: Educação | D39: Colégio | Q39: =SUM(E39:P39) -> 0
D40: Faculdade | Q40: =SUM(E40:P40) -> 0
D41: Curso | Q41: =SUM(E41:P41) -> 0
D42: Assinatura Serviço | Q42: =SUM(E42:P42) -> 0
D43: Outros | Q43: =SUM(E43:P43) -> 0
D44: Total Educação | E44: =SUM(E39:E43) -> 0 | F44: =SUM(F39:F43) -> 0 | G44: =SUM(G39:G43) -> 0 | H44: =SUM(H39:H43) -> 0 | I44: =SUM(I39:I43) -> 0 | J44: =SUM(J39:J43) -> 0 | K44: =SUM(K39:K43) -> 0 | L44: =SUM(L39:L43) -> 0 | ... P44: =SUM(P39:P43) -> 0 | Q44: =SUM(E44:P44) -> 0
...

Sheet Investimentos
E1: Origem/Mês | F1: Janeiro | G1: Fevereiro | H1: Março | I1: Abril | J1: Maio | K1: Junho | L1: Julho | M1: Agosto | N1: Setembro | O1: Outubro | P1: Novembro | Q1: Dezembro | R1: Ano
B2: Investimentos | D2: Aportes | E2: Ações | R2: =SUM(F2:Q2) -> 0
E3: Fundos Imobiliários | R3: =SUM(F3:Q3) -> 0
E4: Tesouro Direto | R4: =SUM(F4:Q4) -> 0
E5: Renda fixa | R5: =SUM(F5:Q5) -> 0
E6: Previdência privada | R6: =SUM(F6:Q6) -> 0
E7: Outros | R7: =SUM(F7:Q7) -> 0
E8: Total | F8: =SUM(F2:F7) -> 0 | G8: =SUM(G2:G7) -> 0 | H8: =SUM(H2:H7) -> 0 | I8: =SUM(I2:I7) -> 0 | J8: =SUM(J2:J7) -> 0 | K8: =SUM(K2:K7) -> 0 | L8: =SUM(L2:L7) -> 0 | M8: =SUM(M2:M7) -> 0 | ... Q8: =SUM(Q2:Q7) -> 0 | R8: =SUM(F8:Q8) -> 0
D10: Ganhos | E10: Dividendos | R10: =SUM(F10:Q10) -> 0
E11: JCP | R11: =SUM(F11:Q11) -> 0
E12: Lucro em Vendas | R12: =SUM(F12:Q12) -> 0
E13: Outros | R13: =SUM(F13:Q13) -> 0
E14: Total | F14: =SUM(F10:F12) -> 0 | G14: =SUM(G10:G12) -> 0 | H14: =SUM(H10:H12) -> 0 | I14: =SUM(I10:I12) -> 0 | J14: =SUM(J10:J12) -> 0 | K14: =SUM(K10:K12) -> 0 | L14: =SUM(L10:L12) -> 0 | M14: =SUM(M10:M12) -> 0 | ... Q14: =SUM(Q10:Q12) -> 0 | R14: =SUM(F14:Q14) -> 0
D16: Perdas | E16: Prejuízo em Vendas | R16: =SUM(F16:Q16) -> 0
E17: Outros | R17: =SUM(F17:Q17) -> 0
E18: Total | F18: =SUM(F16:F17) -> 0 | G18: =SUM(G16:G17) -> 0 | H18: =SUM(H16:H17) -> 0 | I18: =SUM(I16:I17) -> 0 | J18: =SUM(J16:J17) -> 0 | K18: =SUM(K16:K17) -> 0 | L18: =SUM(L16:L17) -> 0 | M18: =SUM(M16:M17) -> 0 | ... Q18: =SUM(Q16:Q17) -> 0 | R18: =SUM(F18:Q18) -> 0
E19: Saldo Ganhos e Perdas | F19: =F14-F18 -> 0 | G19: =G14-G18 -> 0 | H19: =H14-H18 -> 0 | I19: =I14-I18 -> 0 | J19: =J14-J18 -> 0 | K19: =K14-K18 -> 0 | L19: =L14-L18 -> 0 | M19: =M14-M18 -> 0 | ... R19: =R14-R18 -> 0

Sheet Janeiro
D2: Destino/Dias | E2: 1 | F2: 2 | G2: 3 | H2: 4 | I2: 5 | J2: 6 | K2: 7 | L2: 8 | M2: 9 | N2: 10 | O2: 11 | P2: 12 | Q2: 13 | R2: 14 | S2: 15 | T2: 16 | U2: 17 | V2: 18 | W2: 19 | X2: 20 | Y2: 21 | Z2: 22 | AA2: 23 | AB2: 24 | AC2: 25 | AD2: 26 | AE2: 27 | AF2: 28 | AG2: 29 | AH2: 30 | AI2: 31 | AJ2: Mês
B3: Despesas Variáveis do Dia-a-Dia | C3: Alimentação | D3: Café da manhã | AJ3: =SUM(E3:AI3) -> 0
D4: Almoço | AJ4: =SUM(E4:AI4) -> 0
D5: Lanches | AJ5: =SUM(E5:AI5) -> 0
D6: Janta | AJ6: =SUM(E6:AI6) -> 0
D7: Supermercado | AJ7: =SUM(E7:AI7) -> 0
D8: Feira | AJ8: =SUM(E8:AI8) -> 0
D9: Padaria | AJ9: =SUM(E9:AI9) -> 0
D10: Outros | AJ10: =SUM(E10:AI10) -> 0
D11: Total | E11: =SUM(E3:E9) -> 0 | F11: =SUM(F3:F9) -> 0 | G11: =SUM(G3:G9) -> 0 | H11: =SUM(H3:H9) -> 0 | I11: =SUM(I3:I9) -> 0 | J11: =SUM(J3:J9) -> 0 | K11: =SUM(K3:K9) -> 0 | L11: =SUM(L3:L9) -> 0 | ... AI11: =SUM(AI3:AI9) -> 0 | AJ11: =SUM(E11:AI11) -> 0
C12: Transporte | D12: Manuntenção Carro | AJ12: =SUM(E12:AI12) -> 0
D13: Gasolina | AJ13: =SUM(E13:AI13) -> 0
D14: Bicicleta | AJ14: =SUM(E14:AI14) -> 0
D15: Metrô | AJ15: =SUM(E15:AI15) -> 0
D16: Ônibus | AJ16: =SUM(E16:AI16) -> 0
D17: Estacionamento | AJ17: =SUM(E17:AI17) -> 0
D18: Serviço App | AJ18: =SUM(E18:AI18) -> 0
D19: Pedágio | AJ19: =SUM(E19:AI19) -> 0
D20: Outros | AJ20: =SUM(E20:AI20) -> 0
D21: Total | E21: =SUM(E12:E19) -> 0 | F21: =SUM(F12:F19) -> 0 | G21: =SUM(G12:G19) -> 0 | H21: =SUM(H12:H19) -> 0 | I21: =SUM(I12:I19) -> 0 | J21: =SUM(J12:J19) -> 0 | K21: =SUM(K12:K19) -> 0 | L21: =SUM(L12:L19) -> 0 | ... AI21: =SUM(AI12:AI19) -> 0 | AJ21: =SUM(E21:AI21) -> 0
C22: Saúde | D22: Medicamentos | AJ22: =SUM(E22:AI22) -> 0
D23: Médico | AJ23: =SUM(E23:AI23) -> 0
D24: Outros
D25: Total | E25: =SUM(E22:E23) -> 0 | F25: =SUM(F22:F23) -> 0 | G25: =SUM(G22:G23) -> 0 | H25: =SUM(H22:H23) -> 0 | I25: =SUM(I22:I23) -> 0 | J25: =SUM(J22:J23) -> 0 | K25: =SUM(K22:K23) -> 0 | L25: =SUM(L22:L23) -> 0 | ... AI25: =SUM(AI22:AI23) -> 0 | AJ25: =SUM(E25:AI25) -> 0
C26: Educação | D26: Livros | AJ26: =SUM(E26:AI26) -> 0
D27: Material | AJ27: =SUM(E27:AI27) -> 0
D28: Curso | AJ28: =SUM(E28:AI28) -> 0
D29: Outros | AJ29: =SUM(E29:AI29) -> 0
D30: Total | E30: =SUM(E26:E28) -> 0 | F30: =SUM(F26:F28) -> 0 | G30: =SUM(G26:G28) -> 0 | H30: =SUM(H26:H28) -> 0 | I30: =SUM(I26:I28) -> 0 | J30: =SUM(J26:J28) -> 0 | K30: =SUM(K26:K28) -> 0 | L30: =SUM(L26:L28) -> 0 | ... AI30: =SUM(AI26:AI28) -> 0 | AJ30: =SUM(E30:AI30) -> 0
C31: Habitação | D31: Conserto | AJ31: =SUM(E31:AI31) -> 0
D32: Aparelho novo | AJ32: =SUM(E32:AI32) -> 0
D33: Outros | AJ33: =SUM(E33:AI33) -> 0
D34: Total | E34: =SUM(E31:E32) -> 0 | F34: =SUM(F31:F32) -> 0 | G34: =SUM(G31:G32) -> 0 | H34: =SUM(H31:H32) -> 0 | I34: =SUM(I31:I32) -> 0 | J34: =SUM(J31:J32) -> 0 | K34: =SUM(K31:K32) -> 0 | L34: =SUM(L31:L32) -> 0 | ... AI34: =SUM(AI31:AI32) -> 0 | AJ34: =SUM(E34:AI34) -> 0
C35: Lazer | D35: Cinema/Teatro | AJ35: =SUM(E35:AI35) -> 0
D36: Hotel | AJ36: =SUM(E36:AI36) -> 0
D37: Bar | AJ37: =SUM(E37:AI37) -> 0
D38: Festas | AJ38: =SUM(E38:AI38) -> 0
D39: Serviço App Bicicleta | AJ39: =SUM(E39:AI39) -> 0
A40: V | D40: Viagem
D41: Outros | AJ41: =SUM(E41:AI41) -> 0
...

Sheet Fevereiro
D2: Destino/Dias | E2: 1 | F2: 2 | G2: 3 | H2: 4 | I2: 5 | J2: 6 | K2: 7 | L2: 8 | M2: 9 | N2: 10 | O2: 11 | P2: 12 | Q2: 13 | R2: 14 | S2: 15 | T2: 16 | U2: 17 | V2: 18 | W2: 19 | X2: 20 | Y2: 21 | Z2: 22 | AA2: 23 | AB2: 24 | AC2: 25 | AD2: 26 | AE2: 27 | AF2: 28 | AG2: 29 | AH2: 30 | AI2: 31 | AJ2: Mês
B3: Despesas Variáveis do Dia-a-Dia | C3: Alimentação | D3: Café da manhã | AJ3: =SUM(E3:AI3) -> 0
D4: Almoço | AJ4: =SUM(E4:AI4) -> 0
D5: Lanches | AJ5: =SUM(E5:AI5) -> 0
D6: Janta | AJ6: =SUM(E6:AI6) -> 0
D7: Supermercado | AJ7: =SUM(E7:AI7) -> 0
D8: Feira | AJ8: =SUM(E8:AI8) -> 0
D9: Padaria | AJ9: =SUM(E9:AI9) -> 0
D10: Outros | AJ10: =SUM(E10:AI10) -> 0
D11: Total | E11: =SUM(E3:E9) -> 0 | F11: =SUM(F3:F9) -> 0 | G11: =SUM(G3:G9) -> 0 | H11: =SUM(H3:H9) -> 0 | I11: =SUM(I3:I9) -> 0 | J11: =SUM(J3:J9) -> 0 | K11: =SUM(K3:K9) -> 0 | L11: =SUM(L3:L9) -> 0 | ... AI11: =SUM(AI3:AI9) -> 0 | AJ11: =SUM(E11:AI11) -> 0
C12: Transporte | D12: Manuntenção Carro | AJ12: =SUM(E12:AI12) -> 0
D13: Gasolina | AJ13: =SUM(E13:AI13) -> 0
D14: Bicicleta | AJ14: =SUM(E14:AI14) -> 0
D15: Metrô | AJ15: =SUM(E15:AI15) -> 0
D16: Ônibus | AJ16: =SUM(E16:AI16) -> 0
D17: Estacionamento | AJ17: =SUM(E17:AI17) -> 0
D18: Serviço App | AJ18: =SUM(E18:AI18) -> 0
D19: Pedágio | AJ19: =SUM(E19:AI19) -> 0
D20: Outros | AJ20: =SUM(E20:AI20) -> 0
D21: Total | E21: =SUM(E12:E19) -> 0 | F21: =SUM(F12:F19) -> 0 | G21: =SUM(G12:G19) -> 0 | H21: =SUM(H12:H19) -> 0 | I21: =SUM(I12:I19) -> 0 | J21: =SUM(J12:J19) -> 0 | K21: =SUM(K12:K19) -> 0 | L21: =SUM(L12:L19) -> 0 | ... AI21: =SUM(AI12:AI19) -> 0 | AJ21: =SUM(E21:AI21) -> 0
C22: Saúde | D22: Medicamentos | AJ22: =SUM(E22:AI22) -> 0
D23: Médico | AJ23: =SUM(E23:AI23) -> 0
D24: Outros
D25: Total | E25: =SUM(E22:E23) -> 0 | F25: =SUM(F22:F23) -> 0 | G25: =SUM(G22:G23) -> 0 | H25: =SUM(H22:H23) -> 0 | I25: =SUM(I22:I23) -> 0 | J25: =SUM(J22:J23) -> 0 | K25: =SUM(K22:K23) -> 0 | L25: =SUM(L22:L23) -> 0 | ... AI25: =SUM(AI22:AI23) -> 0 | AJ25: =SUM(E25:AI25) -> 0
C26: Educação | D26: Livros | AJ26: =SUM(E26:AI26) -> 0
D27: Material | AJ27: =SUM(E27:AI27) -> 0
D28: Curso | AJ28: =SUM(E28:AI28) -> 0
D29: Outros | AJ29: =SUM(E29:AI29) -> 0
D30: Total | E30: =SUM(E26:E28) -> 0 | F30: =SUM(F26:F28) -> 0 | G30: =SUM(G26:G28) -> 0 | H30: =SUM(H26:H28) -> 0 | I30: =SUM(I26:I28) -> 0 | J30: =SUM(J26:J28) -> 0 | K30: =SUM(K26:K28) -> 0 | L30: =SUM(L26:L28) -> 0 | ... AI30: =SUM(AI26:AI28) -> 0 | AJ30: =SUM(E30:AI30) -> 0
C31: Habitação | D31: Conserto | AJ31: =SUM(E31:AI31) -> 0
D32: Aparelho novo | AJ32: =SUM(E32:AI32) -> 0
D33: Outros | AJ33: =SUM(E33:AI33) -> 0
D34: Total | E34: =SUM(E31:E32) -> 0 | F34: =SUM(F31:F32) -> 0 | G34: =SUM(G31:G32) -> 0 | H34: =SUM(H31:H32) -> 0 | I34: =SUM(I31:I32) -> 0 | J34: =SUM(J31:J32) -> 0 | K34: =SUM(K31:K32) -> 0 | L34: =SUM(L31:L32) -> 0 | ... AI34: =SUM(AI31:AI32) -> 0 | AJ34: =SUM(E34:AI34) -> 0
C35: Lazer | D35: Cinema/Teatro | AJ35: =SUM(E35:AI35) -> 0
D36: Hotel | AJ36: =SUM(E36:AI36) -> 0
D37: Bar | AJ37: =SUM(E37:AI37) -> 0
D38: Festas | AJ38: =SUM(E38:AI38) -> 0
D39: Serviço App Bicicleta | AJ39: =SUM(E39:AI39) -> 0
D40: Viagem
D41: Outros | AJ41: =SUM(E41:AI41) -> 0
...

Sheet Março
D2: Destino/Dias | E2: 1 | F2: 2 | G2: 3 | H2: 4 | I2: 5 | J2: 6 | K2: 7 | L2: 8 | M2: 9 | N2: 10 | O2: 11 | P2: 12 | Q2: 13 | R2: 14 | S2: 15 | T2: 16 | U2: 17 | V2: 18 | W2: 19 | X2: 20 | Y2: 21 | Z2: 22 | AA2: 23 | AB2: 24 | AC2: 25 | AD2: 26 | AE2: 27 | AF2: 28 | AG2: 29 | AH2: 30 | AI2: 31 | AJ2: Mês
B3: Despesas Variáveis do Dia-a-Dia | C3: Alimentação | D3: Café da manhã | AJ3: =SUM(E3:AI3) -> 0
D4: Almoço | AJ4: =SUM(E4:AI4) -> 0
D5: Lanches | AJ5: =SUM(E5:AI5) -> 0
D6: Janta | AJ6: =SUM(E6:AI6) -> 0
D7: Supermercado | AJ7: =SUM(E7:AI7) -> 0
D8: Feira | AJ8: =SUM(E8:AI8) -> 0
D9: Padaria | AJ9: =SUM(E9:AI9) -> 0
D10: Outros | AJ10: =SUM(E10:AI10) -> 0
D11: Total | E11: =SUM(E3:E9) -> 0 | F11: =SUM(F3:F9) -> 0 | G11: =SUM(G3:G9) -> 0 | H11: =SUM(H3:H9) -> 0 | I11: =SUM(I3:I9) -> 0 | J11: =SUM(J3:J9) -> 0 | K11: =SUM(K3:K9) -> 0 | L11: =SUM(L3:L9) -> 0 | ... AI11: =SUM(AI3:AI9) -> 0 | AJ11: =SUM(E11:AI11) -> 0
C12: Transporte | D12: Manuntenção Carro | AJ12: =SUM(E12:AI12) -> 0
D13: Gasolina | AJ13: =SUM(E13:AI13) -> 0
D14: Bicicleta | AJ14: =SUM(E14:AI14) -> 0
D15: Metrô | AJ15: =SUM(E15:AI15) -> 0
D16: Ônibus | AJ16: =SUM(E16:AI16) -> 0
D17: Estacionamento | AJ17: =SUM(E17:AI17) -> 0
D18: Serviço App | AJ18: =SUM(E18:AI18) -> 0
D19: Pedágio | AJ19: =SUM(E19:AI19) -> 0
D20: Outros | AJ20: =SUM(E20:AI20) -> 0
D21: Total | E21: =SUM(E12:E19) -> 0 | F21: =SUM(F12:F19) -> 0 | G21: =SUM(G12:G19) -> 0 | H21: =SUM(H12:H19) -> 0 | I21: =SUM(I12:I19) -> 0 | J21: =SUM(J12:J19) -> 0 | K21: =SUM(K12:K19) -> 0 | L21: =SUM(L12:L19) -> 0 | ... AI21: =SUM(AI12:AI19) -> 0 | AJ21: =SUM(E21:AI21) -> 0
C22: Saúde | D22: Medicamentos | AJ22: =SUM(E22:AI22) -> 0
D23: Médico | AJ23: =SUM(E23:AI23) -> 0
D24: Outros
D25: Total | E25: =SUM(E22:E23) -> 0 | F25: =SUM(F22:F23) -> 0 | G25: =SUM(G22:G23) -> 0 | H25: =SUM(H22:H23) -> 0 | I25: =SUM(I22:I23) -> 0 | J25: =SUM(J22:J23) -> 0 | K25: =SUM(K22:K23) -> 0 | L25: =SUM(L22:L23) -> 0 | ... AI25: =SUM(AI22:AI23) -> 0 | AJ25: =SUM(E25:AI25) -> 0
C26: Educação | D26: Livros | AJ26: =SUM(E26:AI26) -> 0
D27: Material | AJ27: =SUM(E27:AI27) -> 0
D28: Curso | AJ28: =SUM(E28:AI28) -> 0
D29: Outros | AJ29: =SUM(E29:AI29) -> 0
D30: Total | E30: =SUM(E26:E28) -> 0 | F30: =SUM(F26:F28) -> 0 | G30: =SUM(G26:G28) -> 0 | H30: =SUM(H26:H28) -> 0 | I30: =SUM(I26:I28) -> 0 | J30: =SUM(J26:J28) -> 0 | K30: =SUM(K26:K28) -> 0 | L30: =SUM(L26:L28) -> 0 | ... AI30: =SUM(AI26:AI28) -> 0 | AJ30: =SUM(E30:AI30) -> 0
C31: Habitação | D31: Conserto | AJ31: =SUM(E31:AI31) -> 0
D32: Aparelho novo | AJ32: =SUM(E32:AI32) -> 0
D33: Outros | AJ33: =SUM(E33:AI33) -> 0
D34: Total | E34: =SUM(E31:E32) -> 0 | F34: =SUM(F31:F32) -> 0 | G34: =SUM(G31:G32) -> 0 | H34: =SUM(H31:H32) -> 0 | I34: =SUM(I31:I32) -> 0 | J34: =SUM(J31:J32) -> 0 | K34: =SUM(K31:K32) -> 0 | L34: =SUM(L31:L32) -> 0 | ... AI34: =SUM(AI31:AI32) -> 0 | AJ34: =SUM(E34:AI34) -> 0
C35: Lazer | D35: Cinema/Teatro | AJ35: =SUM(E35:AI35) -> 0
D36: Hotel | AJ36: =SUM(E36:AI36) -> 0
D37: Bar | AJ37: =SUM(E37:AI37) -> 0
D38: Festas | AJ38: =SUM(E38:AI38) -> 0
D39: Serviço App Bicicleta | AJ39: =SUM(E39:AI39) -> 0
D40: Viagem
D41: Outros | AJ41: =SUM(E41:AI41) -> 0
...

Sheet Abril
D2: Destino/Dias | E2: 1 | F2: 2 | G2: 3 | H2: 4 | I2: 5 | J2: 6 | K2: 7 | L2: 8 | M2: 9 | N2: 10 | O2: 11 | P2: 12 | Q2: 13 | R2: 14 | S2: 15 | T2: 16 | U2: 17 | V2: 18 | W2: 19 | X2: 20 | Y2: 21 | Z2: 22 | AA2: 23 | AB2: 24 | AC2: 25 | AD2: 26 | AE2: 27 | AF2: 28 | AG2: 29 | AH2: 30 | AI2: 31 | AJ2: Mês
B3: Despesas Variáveis do Dia-a-Dia | C3: Alimentação | D3: Café da manhã | AJ3: =SUM(E3:AI3) -> 0
D4: Almoço | AJ4: =SUM(E4:AI4) -> 0
D5: Lanches | AJ5: =SUM(E5:AI5) -> 0
D6: Janta | AJ6: =SUM(E6:AI6) -> 0
D7: Supermercado | AJ7: =SUM(E7:AI7) -> 0
D8: Feira | AJ8: =SUM(E8:AI8) -> 0
D9: Padaria | AJ9: =SUM(E9:AI9) -> 0
D10: Outros | AJ10: =SUM(E10:AI10) -> 0
D11: Total | E11: =SUM(E3:E9) -> 0 | F11: =SUM(F3:F9) -> 0 | G11: =SUM(G3:G9) -> 0 | H11: =SUM(H3:H9) -> 0 | I11: =SUM(I3:I9) -> 0 | J11: =SUM(J3:J9) -> 0 | K11: =SUM(K3:K9) -> 0 | L11: =SUM(L3:L9) -> 0 | ... AI11: =SUM(AI3:AI9) -> 0 | AJ11: =SUM(E11:AI11) -> 0
C12: Transporte | D12: Manuntenção Carro | AJ12: =SUM(E12:AI12) -> 0
D13: Gasolina | AJ13: =SUM(E13:AI13) -> 0
D14: Bicicleta | AJ14: =SUM(E14:AI14) -> 0
D15: Metrô | AJ15: =SUM(E15:AI15) -> 0
D16: Ônibus | AJ16: =SUM(E16:AI16) -> 0
D17: Estacionamento | AJ17: =SUM(E17:AI17) -> 0
D18: Serviço App | AJ18: =SUM(E18:AI18) -> 0
D19: Pedágio | AJ19: =SUM(E19:AI19) -> 0
D20: Outros | AJ20: =SUM(E20:AI20) -> 0
D21: Total | E21: =SUM(E12:E19) -> 0 | F21: =SUM(F12:F19) -> 0 | G21: =SUM(G12:G19) -> 0 | H21: =SUM(H12:H19) -> 0 | I21: =SUM(I12:I19) -> 0 | J21: =SUM(J12:J19) -> 0 | K21: =SUM(K12:K19) -> 0 | L21: =SUM(L12:L19) -> 0 | ... AI21: =SUM(AI12:AI19) -> 0 | AJ21: =SUM(E21:AI21) -> 0
C22: Saúde | D22: Medicamentos | AJ22: =SUM(E22:AI22) -> 0
D23: Médico | AJ23: =SUM(E23:AI23) -> 0
D24: Outros
D25: Total | E25: =SUM(E22:E23) -> 0 | F25: =SUM(F22:F23) -> 0 | G25: =SUM(G22:G23) -> 0 | H25: =SUM(H22:H23) -> 0 | I25: =SUM(I22:I23) -> 0 | J25: =SUM(J22:J23) -> 0 | K25: =SUM(K22:K23) -> 0 | L25: =SUM(L22:L23) -> 0 | ... AI25: =SUM(AI22:AI23) -> 0 | AJ25: =SUM(E25:AI25) -> 0
C26: Educação | D26: Livros | AJ26: =SUM(E26:AI26) -> 0
D27: Material | AJ27: =SUM(E27:AI27) -> 0
D28: Curso | AJ28: =SUM(E28:AI28) -> 0
D29: Outros | AJ29: =SUM(E29:AI29) -> 0
D30: Total | E30: =SUM(E26:E28) -> 0 | F30: =SUM(F26:F28) -> 0 | G30: =SUM(G26:G28) -> 0 | H30: =SUM(H26:H28) -> 0 | I30: =SUM(I26:I28) -> 0 | J30: =SUM(J26:J28) -> 0 | K30: =SUM(K26:K28) -> 0 | L30: =SUM(L26:L28) -> 0 | ... AI30: =SUM(AI26:AI28) -> 0 | AJ30: =SUM(E30:AI30) -> 0
C31: Habitação | D31: Conserto | AJ31: =SUM(E31:AI31) -> 0
D32: Aparelho novo | AJ32: =SUM(E32:AI32) -> 0
D33: Outros | AJ33: =SUM(E33:AI33) -> 0
D34: Total | E34: =SUM(E31:E32) -> 0 | F34: =SUM(F31:F32) -> 0 | G34: =SUM(G31:G32) -> 0 | H34: =SUM(H31:H32) -> 0 | I34: =SUM(I31:I32) -> 0 | J34: =SUM(J31:J32) -> 0 | K34: =SUM(K31:K32) -> 0 | L34: =SUM(L31:L32) -> 0 | ... AI34: =SUM(AI31:AI32) -> 0 | AJ34: =SUM(E34:AI34) -> 0
C35: Lazer | D35: Cinema/Teatro | AJ35: =SUM(E35:AI35) -> 0
D36: Hotel | AJ36: =SUM(E36:AI36) -> 0
D37: Bar | AJ37: =SUM(E37:AI37) -> 0
D38: Festas | AJ38: =SUM(E38:AI38) -> 0
D39: Serviço App Bicicleta | AJ39: =SUM(E39:AI39) -> 0
D40: Viagem
D41: Outros | AJ41: =SUM(E41:AI41) -> 0
...

Sheet Maio
D2: Destino/Dias | E2: 1 | F2: 2 | G2: 3 | H2: 4 | I2: 5 | J2: 6 | K2: 7 | L2: 8 | M2: 9 | N2: 10 | O2: 11 | P2: 12 | Q2: 13 | R2: 14 | S2: 15 | T2: 16 | U2: 17 | V2: 18 | W2: 19 | X2: 20 | Y2: 21 | Z2: 22 | AA2: 23 | AB2: 24 | AC2: 25 | AD2: 26 | AE2: 27 | AF2: 28 | AG2: 29 | AH2: 30 | AI2: 31 | AJ2: Mês
B3: Despesas Variáveis do Dia-a-Dia | C3: Alimentação | D3: Café da manhã | AJ3: =SUM(E3:AI3) -> 0 | AK3: 31
D4: Almoço | AJ4: =SUM(E4:AI4) -> 0
D5: Lanches | AJ5: =SUM(E5:AI5) -> 0
D6: Janta | AJ6: =SUM(E6:AI6) -> 0
D7: Supermercado | AJ7: =SUM(E7:AI7) -> 0
D8: Feira | AJ8: =SUM(E8:AI8) -> 0
D9: Padaria | AJ9: =SUM(E9:AI9) -> 0
D10: Outros | AJ10: =SUM(E10:AI10) -> 0
D11: Total | E11: =SUM(E3:E9) -> 0 | F11: =SUM(F3:F9) -> 0 | G11: =SUM(G3:G9) -> 0 | H11: =SUM(H3:H9) -> 0 | I11: =SUM(I3:I9) -> 0 | J11: =SUM(J3:J9) -> 0 | K11: =SUM(K3:K9) -> 0 | L11: =SUM(L3:L9) -> 0 | ... AI11: =SUM(AI3:AI9) -> 0 | AJ11: =SUM(E11:AI11) -> 0
C12: Transporte | D12: Manuntenção Carro | AJ12: =SUM(E12:AI12) -> 0
D13: Gasolina | AJ13: =SUM(E13:AI13) -> 0
D14: Bicicleta | AJ14: =SUM(E14:AI14) -> 0
D15: Metrô | AJ15: =SUM(E15:AI15) -> 0
D16: Ônibus | AJ16: =SUM(E16:AI16) -> 0
D17: Estacionamento | AJ17: =SUM(E17:AI17) -> 0
D18: Serviço App | AJ18: =SUM(E18:AI18) -> 0
D19: Pedágio | AJ19: =SUM(E19:AI19) -> 0
D20: Outros | AJ20: =SUM(E20:AI20) -> 0
D21: Total | E21: =SUM(E12:E19) -> 0 | F21: =SUM(F12:F19) -> 0 | G21: =SUM(G12:G19) -> 0 | H21: =SUM(H12:H19) -> 0 | I21: =SUM(I12:I19) -> 0 | J21: =SUM(J12:J19) -> 0 | K21: =SUM(K12:K19) -> 0 | L21: =SUM(L12:L19) -> 0 | ... AI21: =SUM(AI12:AI19) -> 0 | AJ21: =SUM(E21:AI21) -> 0
C22: Saúde | D22: Medicamentos | AJ22: =SUM(E22:AI22) -> 0
D23: Médico | AJ23: =SUM(E23:AI23) -> 0
D24: Outros
D25: Total | E25: =SUM(E22:E23) -> 0 | F25: =SUM(F22:F23) -> 0 | G25: =SUM(G22:G23) -> 0 | H25: =SUM(H22:H23) -> 0 | I25: =SUM(I22:I23) -> 0 | J25: =SUM(J22:J23) -> 0 | K25: =SUM(K22:K23) -> 0 | L25: =SUM(L22:L23) -> 0 | ... AI25: =SUM(AI22:AI23) -> 0 | AJ25: =SUM(E25:AI25) -> 0
C26: Educação | D26: Livros | AJ26: =SUM(E26:AI26) -> 0
D27: Material | AJ27: =SUM(E27:AI27) -> 0
D28: Curso | AJ28: =SUM(E28:AI28) -> 0
D29: Outros | AJ29: =SUM(E29:AI29) -> 0
D30: Total | E30: =SUM(E26:E28) -> 0 | F30: =SUM(F26:F28) -> 0 | G30: =SUM(G26:G28) -> 0 | H30: =SUM(H26:H28) -> 0 | I30: =SUM(I26:I28) -> 0 | J30: =SUM(J26:J28) -> 0 | K30: =SUM(K26:K28) -> 0 | L30: =SUM(L26:L28) -> 0 | ... AI30: =SUM(AI26:AI28) -> 0 | AJ30: =SUM(E30:AI30) -> 0
C31: Habitação | D31: Conserto | AJ31: =SUM(E31:AI31) -> 0
D32: Aparelho novo | AJ32: =SUM(E32:AI32) -> 0
D33: Outros | AJ33: =SUM(E33:AI33) -> 0
D34: Total | E34: =SUM(E31:E32) -> 0 | F34: =SUM(F31:F32) -> 0 | G34: =SUM(G31:G32) -> 0 | H34: =SUM(H31:H32) -> 0 | I34: =SUM(I31:I32) -> 0 | J34: =SUM(J31:J32) -> 0 | K34: =SUM(K31:K32) -> 0 | L34: =SUM(L31:L32) -> 0 | ... AI34: =SUM(AI31:AI32) -> 0 | AJ34: =SUM(E34:AI34) -> 0
C35: Lazer | D35: Cinema/Teatro | AJ35: =SUM(E35:AI35) -> 0
D36: Hotel | AJ36: =SUM(E36:AI36) -> 0
D37: Bar | AJ37: =SUM(E37:AI37) -> 0
D38: Festas | AJ38: =SUM(E38:AI38) -> 0
D39: Serviço App Bicicleta | AJ39: =SUM(E39:AI39) -> 0
D40: Viagem
D41: Outros | AJ41: =SUM(E41:AI41) -> 0
...

Sheet Junho
D2: Destino/Dias | E2: 1 | F2: 2 | G2: 3 | H2: 4 | I2: 5 | J2: 6 | K2: 7 | L2: 8 | M2: 9 | N2: 10 | O2: 11 | P2: 12 | Q2: 13 | R2: 14 | S2: 15 | T2: 16 | U2: 17 | V2: 18 | W2: 19 | X2: 20 | Y2: 21 | Z2: 22 | AA2: 23 | AB2: 24 | AC2: 25 | AD2: 26 | AE2: 27 | AF2: 28 | AG2: 29 | AH2: 30 | AI2: 31 | AJ2: Mês
B3: Despesas Variáveis do Dia-a-Dia | C3: Alimentação | D3: Café da manhã | AJ3: =SUM(E3:AI3) -> 0 | AK3: 31
D4: Almoço | AJ4: =SUM(E4:AI4) -> 0
D5: Lanches | AJ5: =SUM(E5:AI5) -> 0
D6: Janta | AJ6: =SUM(E6:AI6) -> 0
D7: Supermercado | AJ7: =SUM(E7:AI7) -> 0
D8: Feira | AJ8: =SUM(E8:AI8) -> 0
D9: Padaria | AJ9: =SUM(E9:AI9) -> 0
D10: Outros | AJ10: =SUM(E10:AI10) -> 0
D11: Total | E11: =SUM(E3:E9) -> 0 | F11: =SUM(F3:F9) -> 0 | G11: =SUM(G3:G9) -> 0 | H11: =SUM(H3:H9) -> 0 | I11: =SUM(I3:I9) -> 0 | J11: =SUM(J3:J9) -> 0 | K11: =SUM(K3:K9) -> 0 | L11: =SUM(L3:L9) -> 0 | ... AI11: =SUM(AI3:AI9) -> 0 | AJ11: =SUM(E11:AI11) -> 0
C12: Transporte | D12: Manuntenção Carro | AJ12: =SUM(E12:AI12) -> 0
D13: Gasolina | AJ13: =SUM(E13:AI13) -> 0
D14: Bicicleta | AJ14: =SUM(E14:AI14) -> 0
D15: Metrô | AJ15: =SUM(E15:AI15) -> 0
D16: Ônibus | AJ16: =SUM(E16:AI16) -> 0
D17: Estacionamento | AJ17: =SUM(E17:AI17) -> 0
D18: Serviço App | AJ18: =SUM(E18:AI18) -> 0
D19: Pedágio | AJ19: =SUM(E19:AI19) -> 0
D20: Outros | AJ20: =SUM(E20:AI20) -> 0
D21: Total | E21: =SUM(E12:E19) -> 0 | F21: =SUM(F12:F19) -> 0 | G21: =SUM(G12:G19) -> 0 | H21: =SUM(H12:H19) -> 0 | I21: =SUM(I12:I19) -> 0 | J21: =SUM(J12:J19) -> 0 | K21: =SUM(K12:K19) -> 0 | L21: =SUM(L12:L19) -> 0 | ... AI21: =SUM(AI12:AI19) -> 0 | AJ21: =SUM(E21:AI21) -> 0
C22: Saúde | D22: Medicamentos | AJ22: =SUM(E22:AI22) -> 0
D23: Médico | AJ23: =SUM(E23:AI23) -> 0
D24: Outros
D25: Total | E25: =SUM(E22:E23) -> 0 | F25: =SUM(F22:F23) -> 0 | G25: =SUM(G22:G23) -> 0 | H25: =SUM(H22:H23) -> 0 | I25: =SUM(I22:I23) -> 0 | J25: =SUM(J22:J23) -> 0 | K25: =SUM(K22:K23) -> 0 | L25: =SUM(L22:L23) -> 0 | ... AI25: =SUM(AI22:AI23) -> 0 | AJ25: =SUM(E25:AI25) -> 0
C26: Educação | D26: Livros | AJ26: =SUM(E26:AI26) -> 0
D27: Material | AJ27: =SUM(E27:AI27) -> 0
D28: Curso | AJ28: =SUM(E28:AI28) -> 0
D29: Outros | AJ29: =SUM(E29:AI29) -> 0
D30: Total | E30: =SUM(E26:E28) -> 0 | F30: =SUM(F26:F28) -> 0 | G30: =SUM(G26:G28) -> 0 | H30: =SUM(H26:H28) -> 0 | I30: =SUM(I26:I28) -> 0 | J30: =SUM(J26:J28) -> 0 | K30: =SUM(K26:K28) -> 0 | L30: =SUM(L26:L28) -> 0 | ... AI30: =SUM(AI26:AI28) -> 0 | AJ30: =SUM(E30:AI30) -> 0
C31: Habitação | D31: Conserto | AJ31: =SUM(E31:AI31) -> 0
D32: Aparelho novo | AJ32: =SUM(E32:AI32) -> 0
D33: Outros | AJ33: =SUM(E33:AI33) -> 0
D34: Total | E34: =SUM(E31:E32) -> 0 | F34: =SUM(F31:F32) -> 0 | G34: =SUM(G31:G32) -> 0 | H34: =SUM(H31:H32) -> 0 | I34: =SUM(I31:I32) -> 0 | J34: =SUM(J31:J32) -> 0 | K34: =SUM(K31:K32) -> 0 | L34: =SUM(L31:L32) -> 0 | ... AI34: =SUM(AI31:AI32) -> 0 | AJ34: =SUM(E34:AI34) -> 0
C35: Lazer | D35: Cinema/Teatro | AJ35: =SUM(E35:AI35) -> 0
D36: Hotel | AJ36: =SUM(E36:AI36) -> 0
D37: Bar | AJ37: =SUM(E37:AI37) -> 0
D38: Festas | AJ38: =SUM(E38:AI38) -> 0
D39: Serviço App Bicicleta | AJ39: =SUM(E39:AI39) -> 0
D40: Viagem
D41: Outros | AJ41: =SUM(E41:AI41) -> 0
...

Sheet Julho
D2: Destino/Dias | E2: 1 | F2: 2 | G2: 3 | H2: 4 | I2: 5 | J2: 6 | K2: 7 | L2: 8 | M2: 9 | N2: 10 | O2: 11 | P2: 12 | Q2: 13 | R2: 14 | S2: 15 | T2: 16 | U2: 17 | V2: 18 | W2: 19 | X2: 20 | Y2: 21 | Z2: 22 | AA2: 23 | AB2: 24 | AC2: 25 | AD2: 26 | AE2: 27 | AF2: 28 | AG2: 29 | AH2: 30 | AI2: 31 | AJ2: Mês
B3: Despesas Variáveis do Dia-a-Dia | C3: Alimentação | D3: Café da manhã | AJ3: =SUM(E3:AI3) -> 0
D4: Almoço | AJ4: =SUM(E4:AI4) -> 0 | AK4: 31
D5: Lanches | AJ5: =SUM(E5:AI5) -> 0
D6: Janta | AJ6: =SUM(E6:AI6) -> 0
D7: Supermercado | AJ7: =SUM(E7:AI7) -> 0
D8: Feira | AJ8: =SUM(E8:AI8) -> 0
D9: Padaria | AJ9: =SUM(E9:AI9) -> 0
D10: Outros | AJ10: =SUM(E10:AI10) -> 0
D11: Total | E11: =SUM(E3:E9) -> 0 | F11: =SUM(F3:F9) -> 0 | G11: =SUM(G3:G9) -> 0 | H11: =SUM(H3:H9) -> 0 | I11: =SUM(I3:I9) -> 0 | J11: =SUM(J3:J9) -> 0 | K11: =SUM(K3:K9) -> 0 | L11: =SUM(L3:L9) -> 0 | ... AI11: =SUM(AI3:AI9) -> 0 | AJ11: =SUM(E11:AI11) -> 0
C12: Transporte | D12: Manuntenção Carro | AJ12: =SUM(E12:AI12) -> 0
D13: Gasolina | AJ13: =SUM(E13:AI13) -> 0
D14: Bicicleta | AJ14: =SUM(E14:AI14) -> 0
D15: Metrô | AJ15: =SUM(E15:AI15) -> 0
D16: Ônibus | AJ16: =SUM(E16:AI16) -> 0
D17: Estacionamento | AJ17: =SUM(E17:AI17) -> 0
D18: Serviço App | AJ18: =SUM(E18:AI18) -> 0
D19: Pedágio | AJ19: =SUM(E19:AI19) -> 0
D20: Outros | AJ20: =SUM(E20:AI20) -> 0
D21: Total | E21: =SUM(E12:E19) -> 0 | F21: =SUM(F12:F19) -> 0 | G21: =SUM(G12:G19) -> 0 | H21: =SUM(H12:H19) -> 0 | I21: =SUM(I12:I19) -> 0 | J21: =SUM(J12:J19) -> 0 | K21: =SUM(K12:K19) -> 0 | L21: =SUM(L12:L19) -> 0 | ... AI21: =SUM(AI12:AI19) -> 0 | AJ21: =SUM(E21:AI21) -> 0
C22: Saúde | D22: Medicamentos | AJ22: =SUM(E22:AI22) -> 0
D23: Médico | AJ23: =SUM(E23:AI23) -> 0
D24: Outros
D25: Total | E25: =SUM(E22:E23) -> 0 | F25: =SUM(F22:F23) -> 0 | G25: =SUM(G22:G23) -> 0 | H25: =SUM(H22:H23) -> 0 | I25: =SUM(I22:I23) -> 0 | J25: =SUM(J22:J23) -> 0 | K25: =SUM(K22:K23) -> 0 | L25: =SUM(L22:L23) -> 0 | ... AI25: =SUM(AI22:AI23) -> 0 | AJ25: =SUM(E25:AI25) -> 0
C26: Educação | D26: Livros | AJ26: =SUM(E26:AI26) -> 0
D27: Material | AJ27: =SUM(E27:AI27) -> 0
D28: Curso | AJ28: =SUM(E28:AI28) -> 0
D29: Outros | AJ29: =SUM(E29:AI29) -> 0
D30: Total | E30: =SUM(E26:E28) -> 0 | F30: =SUM(F26:F28) -> 0 | G30: =SUM(G26:G28) -> 0 | H30: =SUM(H26:H28) -> 0 | I30: =SUM(I26:I28) -> 0 | J30: =SUM(J26:J28) -> 0 | K30: =SUM(K26:K28) -> 0 | L30: =SUM(L26:L28) -> 0 | ... AI30: =SUM(AI26:AI28) -> 0 | AJ30: =SUM(E30:AI30) -> 0
C31: Habitação | D31: Conserto | AJ31: =SUM(E31:AI31) -> 0
D32: Aparelho novo | AJ32: =SUM(E32:AI32) -> 0
D33: Outros | AJ33: =SUM(E33:AI33) -> 0
D34: Total | E34: =SUM(E31:E32) -> 0 | F34: =SUM(F31:F32) -> 0 | G34: =SUM(G31:G32) -> 0 | H34: =SUM(H31:H32) -> 0 | I34: =SUM(I31:I32) -> 0 | J34: =SUM(J31:J32) -> 0 | K34: =SUM(K31:K32) -> 0 | L34: =SUM(L31:L32) -> 0 | ... AI34: =SUM(AI31:AI32) -> 0 | AJ34: =SUM(E34:AI34) -> 0
C35: Lazer | D35: Cinema/Teatro | AJ35: =SUM(E35:AI35) -> 0
D36: Hotel | AJ36: =SUM(E36:AI36) -> 0
D37: Bar | AJ37: =SUM(E37:AI37) -> 0
D38: Festas | AJ38: =SUM(E38:AI38) -> 0
D39: Serviço App Bicicleta | AJ39: =SUM(E39:AI39) -> 0
D40: Viagem
D41: Outros | AJ41: =SUM(E41:AI41) -> 0
...

Sheet Agosto
D2: Destino/Dias | E2: 1 | F2: 2 | G2: 3 | H2: 4 | I2: 5 | J2: 6 | K2: 7 | L2: 8 | M2: 9 | N2: 10 | O2: 11 | P2: 12 | Q2: 13 | R2: 14 | S2: 15 | T2: 16 | U2: 17 | V2: 18 | W2: 19 | X2: 20 | Y2: 21 | Z2: 22 | AA2: 23 | AB2: 24 | AC2: 25 | AD2: 26 | AE2: 27 | AF2: 28 | AG2: 29 | AH2: 30 | AI2: 31 | AJ2: Mês
B3: Despesas Variáveis do Dia-a-Dia | C3: Alimentação | D3: Café da manhã | AJ3: =SUM(E3:AI3) -> 0
D4: Almoço | AJ4: =SUM(E4:AI4) -> 0 | AK4: 31
D5: Lanches | AJ5: =SUM(E5:AI5) -> 0
D6: Janta | AJ6: =SUM(E6:AI6) -> 0
D7: Supermercado | AJ7: =SUM(E7:AI7) -> 0
D8: Feira | AJ8: =SUM(E8:AI8) -> 0
D9: Padaria | AJ9: =SUM(E9:AI9) -> 0
D10: Outros | AJ10: =SUM(E10:AI10) -> 0
D11: Total | E11: =SUM(E3:E9) -> 0 | F11: =SUM(F3:F9) -> 0 | G11: =SUM(G3:G9) -> 0 | H11: =SUM(H3:H9) -> 0 | I11: =SUM(I3:I9) -> 0 | J11: =SUM(J3:J9) -> 0 | K11: =SUM(K3:K9) -> 0 | L11: =SUM(L3:L9) -> 0 | ... AI11: =SUM(AI3:AI9) -> 0 | AJ11: =SUM(E11:AI11) -> 0
C12: Transporte | D12: Manuntenção Carro | AJ12: =SUM(E12:AI12) -> 0
D13: Gasolina | AJ13: =SUM(E13:AI13) -> 0
D14: Bicicleta | AJ14: =SUM(E14:AI14) -> 0
D15: Metrô | AJ15: =SUM(E15:AI15) -> 0
D16: Ônibus | AJ16: =SUM(E16:AI16) -> 0
D17: Estacionamento | AJ17: =SUM(E17:AI17) -> 0
D18: Serviço App | AJ18: =SUM(E18:AI18) -> 0
D19: Pedágio | AJ19: =SUM(E19:AI19) -> 0
D20: Outros | AJ20: =SUM(E20:AI20) -> 0
D21: Total | E21: =SUM(E12:E19) -> 0 | F21: =SUM(F12:F19) -> 0 | G21: =SUM(G12:G19) -> 0 | H21: =SUM(H12:H19) -> 0 | I21: =SUM(I12:I19) -> 0 | J21: =SUM(J12:J19) -> 0 | K21: =SUM(K12:K19) -> 0 | L21: =SUM(L12:L19) -> 0 | ... AI21: =SUM(AI12:AI19) -> 0 | AJ21: =SUM(E21:AI21) -> 0
C22: Saúde | D22: Medicamentos | AJ22: =SUM(E22:AI22) -> 0
D23: Médico | AJ23: =SUM(E23:AI23) -> 0
D24: Outros
D25: Total | E25: =SUM(E22:E23) -> 0 | F25: =SUM(F22:F23) -> 0 | G25: =SUM(G22:G23) -> 0 | H25: =SUM(H22:H23) -> 0 | I25: =SUM(I22:I23) -> 0 | J25: =SUM(J22:J23) -> 0 | K25: =SUM(K22:K23) -> 0 | L25: =SUM(L22:L23) -> 0 | ... AI25: =SUM(AI22:AI23) -> 0 | AJ25: =SUM(E25:AI25) -> 0
C26: Educação | D26: Livros | AJ26: =SUM(E26:AI26) -> 0
D27: Material | AJ27: =SUM(E27:AI27) -> 0
D28: Curso | AJ28: =SUM(E28:AI28) -> 0
D29: Outros | AJ29: =SUM(E29:AI29) -> 0
D30: Total | E30: =SUM(E26:E28) -> 0 | F30: =SUM(F26:F28) -> 0 | G30: =SUM(G26:G28) -> 0 | H30: =SUM(H26:H28) -> 0 | I30: =SUM(I26:I28) -> 0 | J30: =SUM(J26:J28) -> 0 | K30: =SUM(K26:K28) -> 0 | L30: =SUM(L26:L28) -> 0 | ... AI30: =SUM(AI26:AI28) -> 0 | AJ30: =SUM(E30:AI30) -> 0
C31: Habitação | D31: Conserto | AJ31: =SUM(E31:AI31) -> 0
D32: Aparelho novo | AJ32: =SUM(E32:AI32) -> 0
D33: Outros | AJ33: =SUM(E33:AI33) -> 0
D34: Total | E34: =SUM(E31:E32) -> 0 | F34: =SUM(F31:F32) -> 0 | G34: =SUM(G31:G32) -> 0 | H34: =SUM(H31:H32) -> 0 | I34: =SUM(I31:I32) -> 0 | J34: =SUM(J31:J32) -> 0 | K34: =SUM(K31:K32) -> 0 | L34: =SUM(L31:L32) -> 0 | ... AI34: =SUM(AI31:AI32) -> 0 | AJ34: =SUM(E34:AI34) -> 0
C35: Lazer | D35: Cinema/Teatro | AJ35: =SUM(E35:AI35) -> 0
D36: Hotel | AJ36: =SUM(E36:AI36) -> 0
D37: Bar | AJ37: =SUM(E37:AI37) -> 0
D38: Festas | AJ38: =SUM(E38:AI38) -> 0
D39: Serviço App Bicicleta | AJ39: =SUM(E39:AI39) -> 0
D40: Viagem
D41: Outros | AJ41: =SUM(E41:AI41) -> 0
...

Sheet Setembro
D2: Destino/Dias | E2: 1 | F2: 2 | G2: 3 | H2: 4 | I2: 5 | J2: 6 | K2: 7 | L2: 8 | M2: 9 | N2: 10 | O2: 11 | P2: 12 | Q2: 13 | R2: 14 | S2: 15 | T2: 16 | U2: 17 | V2: 18 | W2: 19 | X2: 20 | Y2: 21 | Z2: 22 | AA2: 23 | AB2: 24 | AC2: 25 | AD2: 26 | AE2: 27 | AF2: 28 | AG2: 29 | AH2: 30 | AI2: 31 | AJ2: Mês
B3: Despesas Variáveis do Dia-a-Dia | C3: Alimentação | D3: Café da manhã | AJ3: =SUM(E3:AI3) -> 0
D4: Almoço | AJ4: =SUM(E4:AI4) -> 0 | AK4: 31
D5: Lanches | AJ5: =SUM(E5:AI5) -> 0
D6: Janta | AJ6: =SUM(E6:AI6) -> 0
D7: Supermercado | AJ7: =SUM(E7:AI7) -> 0
D8: Feira | AJ8: =SUM(E8:AI8) -> 0
D9: Padaria | AJ9: =SUM(E9:AI9) -> 0
D10: Outros | AJ10: =SUM(E10:AI10) -> 0
D11: Total | E11: =SUM(E3:E9) -> 0 | F11: =SUM(F3:F9) -> 0 | G11: =SUM(G3:G9) -> 0 | H11: =SUM(H3:H9) -> 0 | I11: =SUM(I3:I9) -> 0 | J11: =SUM(J3:J9) -> 0 | K11: =SUM(K3:K9) -> 0 | L11: =SUM(L3:L9) -> 0 | ... AI11: =SUM(AI3:AI9) -> 0 | AJ11: =SUM(E11:AI11) -> 0
C12: Transporte | D12: Manuntenção Carro | AJ12: =SUM(E12:AI12) -> 0
D13: Gasolina | AJ13: =SUM(E13:AI13) -> 0
D14: Bicicleta | AJ14: =SUM(E14:AI14) -> 0
D15: Metrô | AJ15: =SUM(E15:AI15) -> 0
D16: Ônibus | AJ16: =SUM(E16:AI16) -> 0
D17: Estacionamento | AJ17: =SUM(E17:AI17) -> 0
D18: Serviço App | AJ18: =SUM(E18:AI18) -> 0
D19: Pedágio | AJ19: =SUM(E19:AI19) -> 0
D20: Outros | AJ20: =SUM(E20:AI20) -> 0
D21: Total | E21: =SUM(E12:E19) -> 0 | F21: =SUM(F12:F19) -> 0 | G21: =SUM(G12:G19) -> 0 | H21: =SUM(H12:H19) -> 0 | I21: =SUM(I12:I19) -> 0 | J21: =SUM(J12:J19) -> 0 | K21: =SUM(K12:K19) -> 0 | L21: =SUM(L12:L19) -> 0 | ... AI21: =SUM(AI12:AI19) -> 0 | AJ21: =SUM(E21:AI21) -> 0
C22: Saúde | D22: Medicamentos | AJ22: =SUM(E22:AI22) -> 0
D23: Médico | AJ23: =SUM(E23:AI23) -> 0
D24: Outros
D25: Total | E25: =SUM(E22:E23) -> 0 | F25: =SUM(F22:F23) -> 0 | G25: =SUM(G22:G23) -> 0 | H25: =SUM(H22:H23) -> 0 | I25: =SUM(I22:I23) -> 0 | J25: =SUM(J22:J23) -> 0 | K25: =SUM(K22:K23) -> 0 | L25: =SUM(L22:L23) -> 0 | ... AI25: =SUM(AI22:AI23) -> 0 | AJ25: =SUM(E25:AI25) -> 0
C26: Educação | D26: Livros | AJ26: =SUM(E26:AI26) -> 0
D27: Material | AJ27: =SUM(E27:AI27) -> 0
D28: Curso | AJ28: =SUM(E28:AI28) -> 0
D29: Outros | AJ29: =SUM(E29:AI29) -> 0
D30: Total | E30: =SUM(E26:E28) -> 0 | F30: =SUM(F26:F28) -> 0 | G30: =SUM(G26:G28) -> 0 | H30: =SUM(H26:H28) -> 0 | I30: =SUM(I26:I28) -> 0 | J30: =SUM(J26:J28) -> 0 | K30: =SUM(K26:K28) -> 0 | L30: =SUM(L26:L28) -> 0 | ... AI30: =SUM(AI26:AI28) -> 0 | AJ30: =SUM(E30:AI30) -> 0
C31: Habitação | D31: Conserto | AJ31: =SUM(E31:AI31) -> 0
D32: Aparelho novo | AJ32: =SUM(E32:AI32) -> 0
D33: Outros | AJ33: =SUM(E33:AI33) -> 0
D34: Total | E34: =SUM(E31:E32) -> 0 | F34: =SUM(F31:F32) -> 0 | G34: =SUM(G31:G32) -> 0 | H34: =SUM(H31:H32) -> 0 | I34: =SUM(I31:I32) -> 0 | J34: =SUM(J31:J32) -> 0 | K34: =SUM(K31:K32) -> 0 | L34: =SUM(L31:L32) -> 0 | ... AI34: =SUM(AI31:AI32) -> 0 | AJ34: =SUM(E34:AI34) -> 0
C35: Lazer | D35: Cinema/Teatro | AJ35: =SUM(E35:AI35) -> 0
D36: Hotel | AJ36: =SUM(E36:AI36) -> 0
D37: Bar | AJ37: =SUM(E37:AI37) -> 0
D38: Festas | AJ38: =SUM(E38:AI38) -> 0
D39: Serviço App Bicicleta | AJ39: =SUM(E39:AI39) -> 0
D40: Viagem
D41: Outros | AJ41: =SUM(E41:AI41) -> 0
...

Sheet Outubro
D2: Destino/Dias | E2: 1 | F2: 2 | G2: 3 | H2: 4 | I2: 5 | J2: 6 | K2: 7 | L2: 8 | M2: 9 | N2: 10 | O2: 11 | P2: 12 | Q2: 13 | R2: 14 | S2: 15 | T2: 16 | U2: 17 | V2: 18 | W2: 19 | X2: 20 | Y2: 21 | Z2: 22 | AA2: 23 | AB2: 24 | AC2: 25 | AD2: 26 | AE2: 27 | AF2: 28 | AG2: 29 | AH2: 30 | AI2: 31 | AJ2: Mês
B3: Despesas Variáveis do Dia-a-Dia | C3: Alimentação | D3: Café da manhã | AJ3: =SUM(E3:AI3) -> 0
D4: Almoço | AJ4: =SUM(E4:AI4) -> 0
D5: Lanches | AJ5: =SUM(E5:AI5) -> 0
D6: Janta | AJ6: =SUM(E6:AI6) -> 0
D7: Supermercado | AJ7: =SUM(E7:AI7) -> 0
D8: Feira | AJ8: =SUM(E8:AI8) -> 0
D9: Padaria | AJ9: =SUM(E9:AI9) -> 0
D10: Outros | AJ10: =SUM(E10:AI10) -> 0
D11: Total | E11: =SUM(E3:E9) -> 0 | F11: =SUM(F3:F9) -> 0 | G11: =SUM(G3:G9) -> 0 | H11: =SUM(H3:H9) -> 0 | I11: =SUM(I3:I9) -> 0 | J11: =SUM(J3:J9) -> 0 | K11: =SUM(K3:K9) -> 0 | L11: =SUM(L3:L9) -> 0 | ... AI11: =SUM(AI3:AI9) -> 0 | AJ11: =SUM(E11:AI11) -> 0
C12: Transporte | D12: Manuntenção Carro | AJ12: =SUM(E12:AI12) -> 0
D13: Gasolina | AJ13: =SUM(E13:AI13) -> 0
D14: Bicicleta | AJ14: =SUM(E14:AI14) -> 0
D15: Metrô | AJ15: =SUM(E15:AI15) -> 0
D16: Ônibus | AJ16: =SUM(E16:AI16) -> 0
